BEGIN:VCALENDAR
VERSION:2.0
PRODID:-//WohnUnion Halle - ECPv6.15.7//NONSGML v1.0//EN
CALSCALE:GREGORIAN
METHOD:PUBLISH
X-WR-CALNAME:WohnUnion Halle
X-ORIGINAL-URL:https://wohnunion-halle.de
X-WR-CALDESC:Veranstaltungen für WohnUnion Halle
REFRESH-INTERVAL;VALUE=DURATION:PT1H
X-Robots-Tag:noindex
X-PUBLISHED-TTL:PT1H
BEGIN:VTIMEZONE
TZID:Europe/Berlin
BEGIN:DAYLIGHT
TZOFFSETFROM:+0100
TZOFFSETTO:+0200
TZNAME:CEST
DTSTART:20250330T010000
END:DAYLIGHT
BEGIN:STANDARD
TZOFFSETFROM:+0200
TZOFFSETTO:+0100
TZNAME:CET
DTSTART:20251026T010000
END:STANDARD
BEGIN:DAYLIGHT
TZOFFSETFROM:+0100
TZOFFSETTO:+0200
TZNAME:CEST
DTSTART:20260329T010000
END:DAYLIGHT
BEGIN:STANDARD
TZOFFSETFROM:+0200
TZOFFSETTO:+0100
TZNAME:CET
DTSTART:20261025T010000
END:STANDARD
BEGIN:DAYLIGHT
TZOFFSETFROM:+0100
TZOFFSETTO:+0200
TZNAME:CEST
DTSTART:20270328T010000
END:DAYLIGHT
BEGIN:STANDARD
TZOFFSETFROM:+0200
TZOFFSETTO:+0100
TZNAME:CET
DTSTART:20271031T010000
END:STANDARD
END:VTIMEZONE
BEGIN:VEVENT
DTSTART;TZID=Europe/Berlin:20260423T190000
DTEND;TZID=Europe/Berlin:20260423T210000
DTSTAMP:20260423T043703
CREATED:20260422T125657Z
LAST-MODIFIED:20260422T125657Z
UID:3146-1776970800-1776978000@wohnunion-halle.de
SUMMARY:Ukulele für alle
DESCRIPTION:23.04.2026/ \nDu hast Lust in Gemeinschaft Ukulele zu spielen?\nDann komm gerne am 23.04.26 um 19:00 Uhr zu uns in die Vally\, pack einfach deine Ukulele ein und musiziere mit uns.\nDer nächste Ukulele-Treff findet am Dienstag\, den 05.05.26 statt. \nOrt: VALLY Gutmann Nachbarschaftsraum\, Georg-Cantor Str 7\, 06108 Halle Saale \n 
URL:https://wohnunion-halle.de/termin/ukulele-fuer-alle-4/
ATTACH;FMTTYPE=image/png:https://wohnunion-halle.de/WUedit/wp-content/uploads/2025/04/Ukulelefueralle-1-e1772192404234.png
END:VEVENT
END:VCALENDAR