BEGIN:VCALENDAR
VERSION:2.0
PRODID:-//WohnUnion Halle - ECPv6.15.7//NONSGML v1.0//EN
CALSCALE:GREGORIAN
METHOD:PUBLISH
X-WR-CALNAME:WohnUnion Halle
X-ORIGINAL-URL:https://wohnunion-halle.de
X-WR-CALDESC:Veranstaltungen für WohnUnion Halle
REFRESH-INTERVAL;VALUE=DURATION:PT1H
X-Robots-Tag:noindex
X-PUBLISHED-TTL:PT1H
BEGIN:VTIMEZONE
TZID:Europe/Berlin
BEGIN:DAYLIGHT
TZOFFSETFROM:+0100
TZOFFSETTO:+0200
TZNAME:CEST
DTSTART:20250330T010000
END:DAYLIGHT
BEGIN:STANDARD
TZOFFSETFROM:+0200
TZOFFSETTO:+0100
TZNAME:CET
DTSTART:20251026T010000
END:STANDARD
BEGIN:DAYLIGHT
TZOFFSETFROM:+0100
TZOFFSETTO:+0200
TZNAME:CEST
DTSTART:20260329T010000
END:DAYLIGHT
BEGIN:STANDARD
TZOFFSETFROM:+0200
TZOFFSETTO:+0100
TZNAME:CET
DTSTART:20261025T010000
END:STANDARD
BEGIN:DAYLIGHT
TZOFFSETFROM:+0100
TZOFFSETTO:+0200
TZNAME:CEST
DTSTART:20270328T010000
END:DAYLIGHT
BEGIN:STANDARD
TZOFFSETFROM:+0200
TZOFFSETTO:+0100
TZNAME:CET
DTSTART:20271031T010000
END:STANDARD
END:VTIMEZONE
BEGIN:VEVENT
DTSTART;TZID=Europe/Berlin:20260429T183000
DTEND;TZID=Europe/Berlin:20260429T210000
DTSTAMP:20260419T182614
CREATED:20260415T124803Z
LAST-MODIFIED:20260415T124803Z
UID:3126-1777487400-1777496400@wohnunion-halle.de
SUMMARY:Mit dem Fahrrad durch Skandinavien - Reisebericht Tina Jakob
DESCRIPTION:29.04.26/ \n„Mit dem Fahrrad durch Skandinavien“ \nIm vergangenen Sommer war Tina Jakob zwei Monate lang allein mit dem Fahrrad unterwegs.Ihre Reise führte sie durch die beeindruckenden Landschaften Skandinaviens und bescherte ihr unvergessliche Erlebnisse. \nDabei sind zahlreiche Fotos entstanden. In ihrem Reisebericht wird sie eine Auswahl davon zeigen und von ihren Abenteuern\, Begegnungen und Herausforderungen unterwegs erzählen. \nAuf Spendenbasis\, vor Ort gibt es die Möglichkeit Getränke und Snacks zu erwerben.\nOrt: VALLY Guttmann Nachbarschaftsraum\, Georg-Cantor Str. 7\, 06108 Halle Saale\nAm: 29.04.26\, Einlass um 18:30 Uhr
URL:https://wohnunion-halle.de/termin/mit-dem-fahrrad-durch-skandinavien-reisebericht-tina-jakob/
ATTACH;FMTTYPE=image/png:https://wohnunion-halle.de/WUedit/wp-content/uploads/2026/04/Mit-dem-Fahrrad-durch-Skandinavien-4.png
END:VEVENT
END:VCALENDAR