BEGIN:VCALENDAR
VERSION:2.0
PRODID:-//WohnUnion Halle - ECPv6.15.7//NONSGML v1.0//EN
CALSCALE:GREGORIAN
METHOD:PUBLISH
X-ORIGINAL-URL:https://wohnunion-halle.de
X-WR-CALDESC:Veranstaltungen für WohnUnion Halle
REFRESH-INTERVAL;VALUE=DURATION:PT1H
X-Robots-Tag:noindex
X-PUBLISHED-TTL:PT1H
BEGIN:VTIMEZONE
TZID:Europe/Berlin
BEGIN:DAYLIGHT
TZOFFSETFROM:+0100
TZOFFSETTO:+0200
TZNAME:CEST
DTSTART:20210328T010000
END:DAYLIGHT
BEGIN:STANDARD
TZOFFSETFROM:+0200
TZOFFSETTO:+0100
TZNAME:CET
DTSTART:20211031T010000
END:STANDARD
BEGIN:DAYLIGHT
TZOFFSETFROM:+0100
TZOFFSETTO:+0200
TZNAME:CEST
DTSTART:20220327T010000
END:DAYLIGHT
BEGIN:STANDARD
TZOFFSETFROM:+0200
TZOFFSETTO:+0100
TZNAME:CET
DTSTART:20221030T010000
END:STANDARD
BEGIN:DAYLIGHT
TZOFFSETFROM:+0100
TZOFFSETTO:+0200
TZNAME:CEST
DTSTART:20230326T010000
END:DAYLIGHT
BEGIN:STANDARD
TZOFFSETFROM:+0200
TZOFFSETTO:+0100
TZNAME:CET
DTSTART:20231029T010000
END:STANDARD
END:VTIMEZONE
BEGIN:VEVENT
DTSTART;TZID=Europe/Berlin:20220613T170000
DTEND;TZID=Europe/Berlin:20220613T190000
DTSTAMP:20260424T071538
CREATED:20220406T201304Z
LAST-MODIFIED:20220519T122033Z
UID:1105-1655139600-1655146800@wohnunion-halle.de
SUMMARY:Klimaspaziergang im Quartier
DESCRIPTION:Herzliche Einladung zum 1. Klimaspaziergang durch das Neumarktviertel zum Langen Tag der Stadtnatur am 13. Juni um 17 Uhr. \nTreffpunkt ist der Welcome-Treff in der Geisstraße 58
URL:https://wohnunion-halle.de/termin/klimaspaziergang-im-quartier/
LOCATION:Welcome-Treff\, Geiststraße 58\, Halle (Saale)
CATEGORIES:Verein
ATTACH;FMTTYPE=image/png:https://wohnunion-halle.de/WUedit/wp-content/uploads/2022/04/Klimaspaziergang-durch-das-Neumarktviertel.png
END:VEVENT
BEGIN:VEVENT
DTSTART;TZID=Europe/Berlin:20220619T100000
DTEND;TZID=Europe/Berlin:20220619T160000
DTSTAMP:20260424T071538
CREATED:20220603T085910Z
LAST-MODIFIED:20220603T092055Z
UID:1235-1655632800-1655654400@wohnunion-halle.de
SUMMARY:Ausflug der WohnUnion (Projektintern)
DESCRIPTION:Wir machen einen Ausflug mit Picknick in die nähere Umgebung von Halle.
URL:https://wohnunion-halle.de/termin/sozialevent-ausflug-der-wohnunion-projektintern/
CATEGORIES:Genossenschaft
END:VEVENT
BEGIN:VEVENT
DTSTART;TZID=Europe/Berlin:20220625T100000
DTEND;TZID=Europe/Berlin:20220625T160000
DTSTAMP:20260424T071538
CREATED:20220603T085639Z
LAST-MODIFIED:20220603T085639Z
UID:1233-1656151200-1656172800@wohnunion-halle.de
SUMMARY:SUBBOTNIK #6 (Projektintern)
DESCRIPTION:Arbeitseinsatz in den Häusern: „Die Tapeten müssen ab“ 🙂 \nFalls Du von außerhalb der WohnUnion gern dazukommen und helfen magst\, sende uns eine Mail an: interesse@wohnunion-halle.de
URL:https://wohnunion-halle.de/termin/subbotnik-6-projektintern/
LOCATION:WohnUnion eG\, Georg-Cantor-Straße 7\, Halle (Saale)\, 06108
CATEGORIES:Genossenschaft
ATTACH;FMTTYPE=image/jpeg:https://wohnunion-halle.de/WUedit/wp-content/uploads/2022/05/2022_Arbeitseinsatz.jpg
END:VEVENT
BEGIN:VEVENT
DTSTART;TZID=Europe/Berlin:20220626T140000
DTEND;TZID=Europe/Berlin:20220626T170000
DTSTAMP:20260424T071538
CREATED:20220603T090820Z
LAST-MODIFIED:20220603T090820Z
UID:1237-1656252000-1656262800@wohnunion-halle.de
SUMMARY:Pop-Up-Café und Lebendige Bibliothek
DESCRIPTION:Einmal im Monat eröffnen wir das Pop-Up-Café vor und in der Hermannstraße.\nEine Möglichkeit mit Snack und Getränk zusammenzukommen\, sich besser kennenzulernen und auszutauschen. \nAuch eine Möglichkeit spannende Workshop-Formate auszuprobieren und kennenzulernen:\nWie die „Lebendige Bibliothek“ – organisiert und veranstaltet vom Jedermensch e.V. \nDie Living Library (lebendige Bibliothek) ist ein nachhaltiges Workshopform der Demokratiebildung. Sie schafft sichere Begegnungsräume\, in denen Menschen ihre Geschichten mit Anderen teilen und Erfahrungen austauschen. Das Konzept baut persönliche und direkte Gesprächskonstellationen auf\, die so sonst vermutlich nicht zustande kommen – ähnlich wie Zeitzeug*innengespräche\, nur dass diese Zeit jetzt ist. \nJe nach Kontext und Zielsetzung einer Living Library kann diese ein breites Spektrum ansprechen. Themenfelder können von Diskriminierungserfahrungen über ungewöhnliche Lebensentwürfe bis zu Berufserfahrungen reichen. Living Libraries provozieren Perspektivwechsel\, sensibilisieren für Diskriminierungen\, schulen die Fähigkeit des empathischen Zuhörens und fördern einen besseren Umgang mit anderen Menschen\, Kulturen und Religionen.
URL:https://wohnunion-halle.de/termin/pop-up-cafe-und-lebendige-bibliothek/
LOCATION:Zwischenraum\, Georg-Cantor-Straße 7\, Halle (Saale)
CATEGORIES:Verein
ATTACH;FMTTYPE=image/jpeg:https://wohnunion-halle.de/WUedit/wp-content/uploads/2022/06/Pop-Up-Cafe_Lebendige-Bibliothek.jpg
END:VEVENT
BEGIN:VEVENT
DTSTART;TZID=Europe/Berlin:20220628T170000
DTEND;TZID=Europe/Berlin:20220628T200000
DTSTAMP:20260424T071538
CREATED:20220603T091925Z
LAST-MODIFIED:20220613T080234Z
UID:1243-1656435600-1656446400@wohnunion-halle.de
SUMMARY:Ausstellungseröffnung "Frauenwelten"
DESCRIPTION:Eine Veranstaltung vom WELCOME-Treff \nVon Februar bis Juni 2022 begegneten sich Frauen verschiedenen Alters\, mit und ohne Migrationsgeschichte\, im Rahmen des Projektes „Frauenwelten – Geschichten zur Verständigung“.\nFünf Monate lang traf sich die Frauengruppe einmal in der Woche und tauschte sich über die eigenen Lebenswelten und -gestaltungen aus. Themen wie kulturelle Frauenrollen\, die verschiedenen Bedeutungen von Familie oder das persönliche Verständnis von Heimat standen im Mittelpunkt des Austauschs. \nInnerhalb des Projekts besuchten die Frauen einen Fotokurs\, der von der Fotografin und Künstlerin Julia Fenske geleitet wurde. In diesem befassten sich die Frauen mit den kreativen und technischen Grundlagen der Handy-Fotografie und übten Elemente der Bildgestaltung\, wie z.B. den Bildaufbau\, den kreativen Umgang mit Licht und Schatten und das Einsetzen von Schwarz-Weiß-Filtern. Anschließend entwickelte die Frauengruppe zusammen mit der Fotografin eine gemeinsame Ausstellung. Dabei präsentieren sowohl die neuen als auch die alteingesessenen Hallenserinnen durch das Medium der Fotografie ihre eigenen „Frauenwelten“. \nÖffnungszeiten:\n30.06. 15 bis 18 Uhr\n07.07. 15 bis 18 Uhr\n14.07. 15 bis 18 Uhr\n21.07. 15 bis 18 Uhr\n28.07. 15 bis 18 Uhr\n04.08. 15 bis 18 Uhr\n11.08. 15 bis 18 Uhr
URL:https://wohnunion-halle.de/termin/ausstellungseroeffnung-frauenwelten/
LOCATION:Zwischenraum\, Georg-Cantor-Straße 7\, Halle (Saale)
CATEGORIES:Verein
ATTACH;FMTTYPE=image/jpeg:https://wohnunion-halle.de/WUedit/wp-content/uploads/2022/06/Postkarte_Einladung_Vorderseite.jpg
END:VEVENT
BEGIN:VEVENT
DTSTART;TZID=Europe/Berlin:20220629T180000
DTEND;TZID=Europe/Berlin:20220629T210000
DTSTAMP:20260424T071538
CREATED:20220603T090954Z
LAST-MODIFIED:20220630T211124Z
UID:1241-1656525600-1656536400@wohnunion-halle.de
SUMMARY:Vernissage Diplomausstellung "Tabula Rasa"
DESCRIPTION:„Tabula Rasa“ – Positionen zu Modernisierungskultur und Demokratie \nDiplom-Präsentation von Nilay Lili Sahin im Fachbereich Bildhauerei/Metall\n29.06. – 01.07. | Bitte Termin online unter nilaylilisahin.art buchen \nIm Rahmen meines Diploms an der Burg Giebichenstein Kunsthochschule im Fachbereich Bildhauerei/Metall beschäftige ich mich mit dem Thema der Sanierung von Leerstandswohnungen. Dabei interessiere ich mich unter anderem für die ungleiche Verteilung von Wohnraum\, der fehlenden Nutzung von Flächen\, wegen fehlender Gewinnversprechen für die Besitzer\, die künstliche Preissteigerung von Wohnraum durch Billigsanierung und der dadurch entstehenden Vereinheitlichung von\nWohnungen. \nDer immer gleiche Raum mit Plastikfenstern und – Türen\, Raufasertapete\, Klicklaminat u.Ä. ist auf dem Wohnungsmarkt omnipräsenter. Bei den Entscheidungen bezüglich der Sanierungsmaßnahmen scheint ein Gefühl für die bereits vorhanden Eigenheiten von Räumne kaum Platz zu finden. Ein Typus Wohnung für einen Typus Mensch? \nEiner ortsbezogenen\, vergänglichen\, kinetische Installation.
URL:https://wohnunion-halle.de/termin/vernissage-diplomausstellung/
LOCATION:Zwischenraum\, Georg-Cantor-Straße 7\, Halle (Saale)
CATEGORIES:Verein
ATTACH;FMTTYPE=image/jpeg:https://wohnunion-halle.de/WUedit/wp-content/uploads/2022/06/Titelbild_Tabula-Rasa.jpg
END:VEVENT
BEGIN:VEVENT
DTSTART;TZID=Europe/Berlin:20220630T150000
DTEND;TZID=Europe/Berlin:20220630T180000
DTSTAMP:20260424T071538
CREATED:20220713T205427Z
LAST-MODIFIED:20220713T205427Z
UID:1281-1656601200-1656612000@wohnunion-halle.de
SUMMARY:Ausstellung „Frauenwelten“
DESCRIPTION:Eine Veranstaltung vom WELCOME-Treff \nVon Februar bis Juni 2022 begegneten sich Frauen verschiedenen Alters\, mit und ohne Migrationsgeschichte\, im Rahmen des Projektes „Frauenwelten – Geschichten zur Verständigung“.\nFünf Monate lang traf sich die Frauengruppe einmal in der Woche und tauschte sich über die eigenen Lebenswelten und -gestaltungen aus. Themen wie kulturelle Frauenrollen\, die verschiedenen Bedeutungen von Familie oder das persönliche Verständnis von Heimat standen im Mittelpunkt des Austauschs. \nInnerhalb des Projekts besuchten die Frauen einen Fotokurs\, der von der Fotografin und Künstlerin Julia Fenske geleitet wurde. In diesem befassten sich die Frauen mit den kreativen und technischen Grundlagen der Handy-Fotografie und übten Elemente der Bildgestaltung\, wie z.B. den Bildaufbau\, den kreativen Umgang mit Licht und Schatten und das Einsetzen von Schwarz-Weiß-Filtern. Anschließend entwickelte die Frauengruppe zusammen mit der Fotografin eine gemeinsame Ausstellung. Dabei präsentieren sowohl die neuen als auch die alteingesessenen Hallenserinnen durch das Medium der Fotografie ihre eigenen „Frauenwelten“. \nÖffnungszeiten:\n30.06. 15 bis 18 Uhr\n07.07. 15 bis 18 Uhr\n14.07. 15 bis 18 Uhr\n21.07. 15 bis 18 Uhr\n28.07. 15 bis 18 Uhr\n04.08. 15 bis 18 Uhr\n11.08. 15 bis 18 Uhr
URL:https://wohnunion-halle.de/termin/ausstellung-frauenwelten-4/
LOCATION:Zwischenraum\, Georg-Cantor-Straße 7\, Halle (Saale)
CATEGORIES:Verein
ATTACH;FMTTYPE=image/jpeg:https://wohnunion-halle.de/WUedit/wp-content/uploads/2022/06/Postkarte_Einladung_Vorderseite.jpg
END:VEVENT
END:VCALENDAR