BEGIN:VCALENDAR
VERSION:2.0
PRODID:-//WohnUnion Halle - ECPv6.15.7//NONSGML v1.0//EN
CALSCALE:GREGORIAN
METHOD:PUBLISH
X-WR-CALNAME:WohnUnion Halle
X-ORIGINAL-URL:https://wohnunion-halle.de
X-WR-CALDESC:Veranstaltungen für WohnUnion Halle
REFRESH-INTERVAL;VALUE=DURATION:PT1H
X-Robots-Tag:noindex
X-PUBLISHED-TTL:PT1H
BEGIN:VTIMEZONE
TZID:Europe/Berlin
BEGIN:DAYLIGHT
TZOFFSETFROM:+0100
TZOFFSETTO:+0200
TZNAME:CEST
DTSTART:20210328T010000
END:DAYLIGHT
BEGIN:STANDARD
TZOFFSETFROM:+0200
TZOFFSETTO:+0100
TZNAME:CET
DTSTART:20211031T010000
END:STANDARD
BEGIN:DAYLIGHT
TZOFFSETFROM:+0100
TZOFFSETTO:+0200
TZNAME:CEST
DTSTART:20220327T010000
END:DAYLIGHT
BEGIN:STANDARD
TZOFFSETFROM:+0200
TZOFFSETTO:+0100
TZNAME:CET
DTSTART:20221030T010000
END:STANDARD
BEGIN:DAYLIGHT
TZOFFSETFROM:+0100
TZOFFSETTO:+0200
TZNAME:CEST
DTSTART:20230326T010000
END:DAYLIGHT
BEGIN:STANDARD
TZOFFSETFROM:+0200
TZOFFSETTO:+0100
TZNAME:CET
DTSTART:20231029T010000
END:STANDARD
END:VTIMEZONE
BEGIN:VEVENT
DTSTART;TZID=Europe/Berlin:20220804T150000
DTEND;TZID=Europe/Berlin:20220804T180000
DTSTAMP:20260424T034949
CREATED:20220802T203805Z
LAST-MODIFIED:20220802T203805Z
UID:1295-1659625200-1659636000@wohnunion-halle.de
SUMMARY:Ausstellung „Frauenwelten“
DESCRIPTION:Eine Veranstaltung vom WELCOME-Treff \nVon Februar bis Juni 2022 begegneten sich Frauen verschiedenen Alters\, mit und ohne Migrationsgeschichte\, im Rahmen des Projektes „Frauenwelten – Geschichten zur Verständigung“.\nFünf Monate lang traf sich die Frauengruppe einmal in der Woche und tauschte sich über die eigenen Lebenswelten und -gestaltungen aus. Themen wie kulturelle Frauenrollen\, die verschiedenen Bedeutungen von Familie oder das persönliche Verständnis von Heimat standen im Mittelpunkt des Austauschs. \nInnerhalb des Projekts besuchten die Frauen einen Fotokurs\, der von der Fotografin und Künstlerin Julia Fenske geleitet wurde. In diesem befassten sich die Frauen mit den kreativen und technischen Grundlagen der Handy-Fotografie und übten Elemente der Bildgestaltung\, wie z.B. den Bildaufbau\, den kreativen Umgang mit Licht und Schatten und das Einsetzen von Schwarz-Weiß-Filtern. Anschließend entwickelte die Frauengruppe zusammen mit der Fotografin eine gemeinsame Ausstellung. Dabei präsentieren sowohl die neuen als auch die alteingesessenen Hallenserinnen durch das Medium der Fotografie ihre eigenen „Frauenwelten“. \n\nÖffnungszeiten:\n30.06. 15 bis 18 Uhr\n07.07. 15 bis 18 Uhr\n14.07. 15 bis 18 Uhr\n21.07. 15 bis 18 Uhr\n28.07. 15 bis 18 Uhr\n04.08. 15 bis 18 Uhr\n11.08. 15 bis 18 Uhr
URL:https://wohnunion-halle.de/termin/ausstellung-frauenwelten-5/
LOCATION:Zwischenraum\, Georg-Cantor-Straße 7\, Halle (Saale)
CATEGORIES:Verein
ATTACH;FMTTYPE=image/jpeg:https://wohnunion-halle.de/WUedit/wp-content/uploads/2022/06/Postkarte_Einladung_Vorderseite.jpg
END:VEVENT
BEGIN:VEVENT
DTSTART;TZID=Europe/Berlin:20220811T150000
DTEND;TZID=Europe/Berlin:20220811T180000
DTSTAMP:20260424T034949
CREATED:20220802T204036Z
LAST-MODIFIED:20220802T204036Z
UID:1297-1660230000-1660240800@wohnunion-halle.de
SUMMARY:Ausstellung „Frauenwelten“
DESCRIPTION:Eine Veranstaltung vom WELCOME-Treff \nVon Februar bis Juni 2022 begegneten sich Frauen verschiedenen Alters\, mit und ohne Migrationsgeschichte\, im Rahmen des Projektes „Frauenwelten – Geschichten zur Verständigung“.\nFünf Monate lang traf sich die Frauengruppe einmal in der Woche und tauschte sich über die eigenen Lebenswelten und -gestaltungen aus. Themen wie kulturelle Frauenrollen\, die verschiedenen Bedeutungen von Familie oder das persönliche Verständnis von Heimat standen im Mittelpunkt des Austauschs. \nInnerhalb des Projekts besuchten die Frauen einen Fotokurs\, der von der Fotografin und Künstlerin Julia Fenske geleitet wurde. In diesem befassten sich die Frauen mit den kreativen und technischen Grundlagen der Handy-Fotografie und übten Elemente der Bildgestaltung\, wie z.B. den Bildaufbau\, den kreativen Umgang mit Licht und Schatten und das Einsetzen von Schwarz-Weiß-Filtern. Anschließend entwickelte die Frauengruppe zusammen mit der Fotografin eine gemeinsame Ausstellung. Dabei präsentieren sowohl die neuen als auch die alteingesessenen Hallenserinnen durch das Medium der Fotografie ihre eigenen „Frauenwelten“. \n\nÖffnungszeiten:\n30.06. 15 bis 18 Uhr\n07.07. 15 bis 18 Uhr\n14.07. 15 bis 18 Uhr\n21.07. 15 bis 18 Uhr\n28.07. 15 bis 18 Uhr\n04.08. 15 bis 18 Uhr\n11.08. 15 bis 18 Uhr
URL:https://wohnunion-halle.de/termin/ausstellung-frauenwelten-6/
LOCATION:Zwischenraum\, Georg-Cantor-Straße 7\, Halle (Saale)
CATEGORIES:Verein
ATTACH;FMTTYPE=image/jpeg:https://wohnunion-halle.de/WUedit/wp-content/uploads/2022/06/Postkarte_Einladung_Vorderseite.jpg
END:VEVENT
BEGIN:VEVENT
DTSTART;TZID=Europe/Berlin:20220820T100000
DTEND;TZID=Europe/Berlin:20220820T160000
DTSTAMP:20260424T034949
CREATED:20220802T204838Z
LAST-MODIFIED:20220805T090430Z
UID:1299-1660989600-1661011200@wohnunion-halle.de
SUMMARY:SUBBOTNIK #9 (Projektintern)
DESCRIPTION:Arbeitseinsatz in den Häusern. \nFalls Du von außerhalb der WohnUnion gern dazukommen und helfen magst\, sende uns eine Mail an:\ninteresse@wohnunion-halle.de
URL:https://wohnunion-halle.de/termin/subbotnik-8-projektintern/
LOCATION:WohnUnion eG\, Georg-Cantor-Straße 7\, Halle (Saale)\, 06108
CATEGORIES:Genossenschaft
ATTACH;FMTTYPE=image/jpeg:https://wohnunion-halle.de/WUedit/wp-content/uploads/2022/05/2022_Arbeitseinsatz.jpg
END:VEVENT
BEGIN:VEVENT
DTSTART;TZID=Europe/Berlin:20220828T140000
DTEND;TZID=Europe/Berlin:20220828T170000
DTSTAMP:20260424T034949
CREATED:20220802T203340Z
LAST-MODIFIED:20220804T142936Z
UID:1290-1661695200-1661706000@wohnunion-halle.de
SUMMARY:Pop-Up-Café + Living Library
DESCRIPTION:Immer am letzten Sonntag im Monat eröffnen wir das Pop-Up-Café vor und in der Hermannstraße.\nEine Möglichkeit mit Snack und Getränk zusammenzukommen\, sich besser kennenzulernen und auszutauschen. \nAuch eine Möglichkeit spannende Workshop-Formate auszuprobieren und kennenzulernen:\nWie die „Lebendige Bibliothek“ – organisiert und veranstaltet diesmal mit Menschen der WohnUnion! \nUnd als besondere Gästin haben wir die Hallesche Stadtschreiberin Dr. Barbara Thériault eingeladen.
URL:https://wohnunion-halle.de/termin/pop-up-cafe-living-library-2/
LOCATION:Zwischenraum\, Georg-Cantor-Straße 7\, Halle (Saale)
CATEGORIES:Verein
ATTACH;FMTTYPE=image/jpeg:https://wohnunion-halle.de/WUedit/wp-content/uploads/2022/06/Pop-Up-Cafe_Lebendige-Bibliothek.jpg
END:VEVENT
END:VCALENDAR