BEGIN:VCALENDAR
VERSION:2.0
PRODID:-//WohnUnion Halle - ECPv6.15.7//NONSGML v1.0//EN
CALSCALE:GREGORIAN
METHOD:PUBLISH
X-WR-CALNAME:WohnUnion Halle
X-ORIGINAL-URL:https://wohnunion-halle.de
X-WR-CALDESC:Veranstaltungen für WohnUnion Halle
REFRESH-INTERVAL;VALUE=DURATION:PT1H
X-Robots-Tag:noindex
X-PUBLISHED-TTL:PT1H
BEGIN:VTIMEZONE
TZID:Europe/Berlin
BEGIN:DAYLIGHT
TZOFFSETFROM:+0100
TZOFFSETTO:+0200
TZNAME:CEST
DTSTART:20210328T010000
END:DAYLIGHT
BEGIN:STANDARD
TZOFFSETFROM:+0200
TZOFFSETTO:+0100
TZNAME:CET
DTSTART:20211031T010000
END:STANDARD
BEGIN:DAYLIGHT
TZOFFSETFROM:+0100
TZOFFSETTO:+0200
TZNAME:CEST
DTSTART:20220327T010000
END:DAYLIGHT
BEGIN:STANDARD
TZOFFSETFROM:+0200
TZOFFSETTO:+0100
TZNAME:CET
DTSTART:20221030T010000
END:STANDARD
BEGIN:DAYLIGHT
TZOFFSETFROM:+0100
TZOFFSETTO:+0200
TZNAME:CEST
DTSTART:20230326T010000
END:DAYLIGHT
BEGIN:STANDARD
TZOFFSETFROM:+0200
TZOFFSETTO:+0100
TZNAME:CET
DTSTART:20231029T010000
END:STANDARD
END:VTIMEZONE
BEGIN:VEVENT
DTSTART;TZID=Europe/Berlin:20220903T150000
DTEND;TZID=Europe/Berlin:20220903T210000
DTSTAMP:20260424T015249
CREATED:20220406T201427Z
LAST-MODIFIED:20220805T092356Z
UID:1107-1662217200-1662238800@wohnunion-halle.de
SUMMARY:Kunst & Straßenfest
DESCRIPTION:Mit Kreativangeboten\, Kuchenbuffet\, Getränken und Speisen und Bühnenprogramm: \n\n15 Uhr Bigband „Brass Impressions“\n16 Uhr Puppentheater Jacob Simon\n17 Uhr Kinderchor der Laurentiusgemeinde\n17:30 Uhr „Zohar Lios Aviv“ (Singer-Songwriter)\n18:30 Uhr Frauenchor „Missklang“\n19:15 Uhr Folktanz für alle mit „Gehupft wie Gesprungen“ und „Knoten 46“\n20:15 „Lightcap“ (Indie Folk)\n\nVeranstaltet von WohnUnion e.V. & Laurentiusgemeinde & Stadtmission Halle & Hort Abenteuerland \nSUPPORT\nFür dieses Fest fehlen uns noch 3.500 €\, welche wir durch Sponsoren und Drittmittel einwerben müssen.\nWenn ihr uns dabei mit einer Spende unterstützen wollt oder Organisationen im Quartier kennt\, die uns sponsorn möchten\, dann meldet euch gern bei Grit: kontakt@wohnunion-halle.de\nAls gemeinnütziger Verein können wir auch Spendenquittungen ausstellen.
URL:https://wohnunion-halle.de/termin/kunst-strassenfest/
LOCATION:Alter Neumarkt\, Kreuzung Breite Straße\, Laurentiusstraße\, Georg-Cantor-Straße
CATEGORIES:Verein
ATTACH;FMTTYPE=image/jpeg:https://wohnunion-halle.de/WUedit/wp-content/uploads/2022/04/kunstfest_im_neumarktviertel.jpg
END:VEVENT
BEGIN:VEVENT
DTSTART;TZID=Europe/Berlin:20220914T180000
DTEND;TZID=Europe/Berlin:20220914T200000
DTSTAMP:20260424T015249
CREATED:20220912T154808Z
LAST-MODIFIED:20220912T154808Z
UID:1327-1663178400-1663185600@wohnunion-halle.de
SUMMARY:Zukunfts-Treff vom Unverpackt-Laden
DESCRIPTION:Es geht um die Zukunft des Unverpackt-Ladens am Bebel-Platz.Das Treffen ist für alle Interessent*innen offen.\nDas Treffen ist für alle Interessent*inne offen.
URL:https://wohnunion-halle.de/termin/zukunfts-treff-vom-unverpackt-laden/
LOCATION:Zwischenraum\, Georg-Cantor-Straße 7\, Halle (Saale)
CATEGORIES:Verein
END:VEVENT
BEGIN:VEVENT
DTSTART;TZID=Europe/Berlin:20220917T100000
DTEND;TZID=Europe/Berlin:20220917T160000
DTSTAMP:20260424T015249
CREATED:20220902T132053Z
LAST-MODIFIED:20220902T132053Z
UID:1319-1663408800-1663430400@wohnunion-halle.de
SUMMARY:SUBBOTNIK #10 (Projektintern)
DESCRIPTION:Arbeitseinsatz in den Häusern und in Angersdorf. \nFalls Du von außerhalb der WohnUnion gern dazukommen und helfen magst\, sende uns eine Mail an:\ninteresse@wohnunion-halle.de
URL:https://wohnunion-halle.de/termin/subbotnik-10-projektintern/
LOCATION:WohnUnion eG\, Georg-Cantor-Straße 7\, Halle (Saale)\, 06108
CATEGORIES:Genossenschaft
ATTACH;FMTTYPE=image/jpeg:https://wohnunion-halle.de/WUedit/wp-content/uploads/2022/05/Foto_Arbeitseinsatz.jpg
END:VEVENT
BEGIN:VEVENT
DTSTART;TZID=Europe/Berlin:20220925T140000
DTEND;TZID=Europe/Berlin:20220925T170000
DTSTAMP:20260424T015249
CREATED:20220802T205154Z
LAST-MODIFIED:20220922T095050Z
UID:1302-1664114400-1664125200@wohnunion-halle.de
SUMMARY:Pop-Up-Café
DESCRIPTION:Einmal im Monat eröffnen wir das Pop-Up-Café vor und in der Hermannstraße.\nEine Möglichkeit mit Snack und Getränk zusammenzukommen\, sich besser kennenzulernen und auszutauschen. \nAuch eine Möglichkeit spannende Workshop-Formate auszuprobieren und kennenzulernen.\nDie „Lebendige Bibliothek“ kann dieses Mal leider nicht dabei sein.\nHabt ihr dafür Ideen? Meldet euch gern unter verein@wohnunion-halle.de
URL:https://wohnunion-halle.de/termin/pop-up-cafe-living-library-3/
LOCATION:Zwischenraum\, Georg-Cantor-Straße 7\, Halle (Saale)
CATEGORIES:Verein
ATTACH;FMTTYPE=image/jpeg:https://wohnunion-halle.de/WUedit/wp-content/uploads/2022/06/Pop-Up-Cafe_Lebendige-Bibliothek.jpg
END:VEVENT
BEGIN:VEVENT
DTSTART;TZID=Europe/Berlin:20220929T180000
DTEND;TZID=Europe/Berlin:20220929T210000
DTSTAMP:20260424T015249
CREATED:20220713T211039Z
LAST-MODIFIED:20220713T211039Z
UID:1286-1664474400-1664485200@wohnunion-halle.de
SUMMARY:WohnUnion Geburtstag
DESCRIPTION:Wir feiern 5 Jahre WohnUnion.
URL:https://wohnunion-halle.de/termin/wohnunion-geburtstag/
CATEGORIES:Genossenschaft,Verein
END:VEVENT
BEGIN:VEVENT
DTSTART;TZID=Europe/Berlin:20220930T140000
DTEND;TZID=Europe/Berlin:20220930T180000
DTSTAMP:20260424T015249
CREATED:20220912T155157Z
LAST-MODIFIED:20220912T155329Z
UID:1329-1664546400-1664560800@wohnunion-halle.de
SUMMARY:Visionsworkshop
DESCRIPTION:Visionsworkshop zum Thema „Freie TRäume – was braucht es im Neumarktviertel“ \nUnsere Vision ist es\, frei zugängliche Räume für die Nachbarschaft und für stille Gewerbe entstehen zu lassen.\nWie können diese Räume aussehen und was wird gebraucht im Quartier? Habt ihr Ideen und Wünsche? \nAlle Interessierten sind herzlich eingeladen. Bitte um Anmeldung bis 20.9. an kontakt@wohnunion-halle.de
URL:https://wohnunion-halle.de/termin/visionsworkshop/
LOCATION:Zwischenraum\, Georg-Cantor-Straße 7\, Halle (Saale)
CATEGORIES:Genossenschaft,Verein
END:VEVENT
END:VCALENDAR