BEGIN:VCALENDAR
VERSION:2.0
PRODID:-//WohnUnion Halle - ECPv6.15.7//NONSGML v1.0//EN
CALSCALE:GREGORIAN
METHOD:PUBLISH
X-ORIGINAL-URL:https://wohnunion-halle.de
X-WR-CALDESC:Veranstaltungen für WohnUnion Halle
REFRESH-INTERVAL;VALUE=DURATION:PT1H
X-Robots-Tag:noindex
X-PUBLISHED-TTL:PT1H
BEGIN:VTIMEZONE
TZID:Europe/Berlin
BEGIN:DAYLIGHT
TZOFFSETFROM:+0100
TZOFFSETTO:+0200
TZNAME:CEST
DTSTART:20210328T010000
END:DAYLIGHT
BEGIN:STANDARD
TZOFFSETFROM:+0200
TZOFFSETTO:+0100
TZNAME:CET
DTSTART:20211031T010000
END:STANDARD
BEGIN:DAYLIGHT
TZOFFSETFROM:+0100
TZOFFSETTO:+0200
TZNAME:CEST
DTSTART:20220327T010000
END:DAYLIGHT
BEGIN:STANDARD
TZOFFSETFROM:+0200
TZOFFSETTO:+0100
TZNAME:CET
DTSTART:20221030T010000
END:STANDARD
BEGIN:DAYLIGHT
TZOFFSETFROM:+0100
TZOFFSETTO:+0200
TZNAME:CEST
DTSTART:20230326T010000
END:DAYLIGHT
BEGIN:STANDARD
TZOFFSETFROM:+0200
TZOFFSETTO:+0100
TZNAME:CET
DTSTART:20231029T010000
END:STANDARD
END:VTIMEZONE
BEGIN:VEVENT
DTSTART;VALUE=DATE:20221201
DTEND;VALUE=DATE:20221225
DTSTAMP:20260423T203125
CREATED:20221129T103130Z
LAST-MODIFIED:20221129T103130Z
UID:1504-1669852800-1671926399@wohnunion-halle.de
SUMMARY:Adventslichter in den Fenstern der WohnUnion
DESCRIPTION:Egal\, wie die Frage ist: „Zusammen!“ heißt die Antwort \nWas wäre die WohnUnion ohne ein starkes Netzwerk\, Nachbarinnen & Nachbarn und gute Kooperationspartner:innen\, die unterstützend an unserer Seite stehen. In diesem Jahr\, wollen wir vom 1. bis 24. Dezember wieder täglich ein Fenster in unserem Wohnprojekt leuchten lassen\, in dem es was zu entdecken gibt. Wir wollen dieses Netzwerk von Unterstützenden sichtbar machen. Im Schaukasten befindet sich jeweils die passende Geschichte und Erläuterung zu dem Gegenstand im erleuchteten Fenster. Kommt vorbei und lasst euch überraschen.
URL:https://wohnunion-halle.de/termin/adventslichter-in-den-fenstern-der-wohnunion/
LOCATION:Georg-Cantor-Straße 7
CATEGORIES:Verein
END:VEVENT
BEGIN:VEVENT
DTSTART;VALUE=DATE:20221203
DTEND;VALUE=DATE:20221205
DTSTAMP:20260423T203125
CREATED:20221129T102004Z
LAST-MODIFIED:20221129T102738Z
UID:1494-1670025600-1670198399@wohnunion-halle.de
SUMMARY:Wunderbare Weihnachtsware
DESCRIPTION:Weihnachtlicher Markt für Groß und Klein mit handgemachten Besonderheiten aus Halle und Umkreis – zum Schenken oder Selbergenießen.\nAuch Schmeichelndes für Ohr und Gaumen. \nDie WohnUnion hat einen Stand mit Leckerem und Schönem von Katrin aus dem Himmel & Erde Bioladen.\nEs gibt hier auch die Möglichkeit einer Frei-Suppe zu schenken/bekommen.
URL:https://wohnunion-halle.de/termin/wunderbare-weihnachtsware/
LOCATION:Hof Große Steinstraße 30
CATEGORIES:Verein
ATTACH;FMTTYPE=image/jpeg:https://wohnunion-halle.de/WUedit/wp-content/uploads/2022/11/IMG_1483.jpg
END:VEVENT
BEGIN:VEVENT
DTSTART;TZID=Europe/Berlin:20221209T150000
DTEND;TZID=Europe/Berlin:20221209T190000
DTSTAMP:20260423T203125
CREATED:20221129T100952Z
LAST-MODIFIED:20221129T100952Z
UID:1488-1670598000-1670612400@wohnunion-halle.de
SUMMARY:Adventslichter Flohmarkt
DESCRIPTION:Eine Veranstaltung des Ambulanten Kinder- und Jugendhospiz Halle \nVorweihnachtliches Verweilen bei Winzer-Glühwein\, Waffeln und Live-Musik\, Geschenke-Shoppen von Handmade-Artikeln und auf dem Flohmarkt. \nAm Neumarkt rund um die Georg-Cantor-Straße 1a.
URL:https://wohnunion-halle.de/termin/adventslichter-flohmarkt/
LOCATION:Neumarkt
CATEGORIES:Verein
ATTACH;FMTTYPE=image/jpeg:https://wohnunion-halle.de/WUedit/wp-content/uploads/2022/11/Adventslichter-Flohmarkt_AKJH.jpg
END:VEVENT
BEGIN:VEVENT
DTSTART;TZID=Europe/Berlin:20221217T100000
DTEND;TZID=Europe/Berlin:20221217T160000
DTSTAMP:20260423T203125
CREATED:20221117T153719Z
LAST-MODIFIED:20221213T105742Z
UID:1469-1671271200-1671292800@wohnunion-halle.de
SUMMARY:Weihnachts-SUBBOTNIK (Projektintern)
DESCRIPTION:Arbeitseinsatz in den Häusern mit anschließender Weihnachtsfe(u)ier.\nDer Fokus liegt auf Container mit Holz und Schutt füllen\, sowie Balken freilegen für den Holzschutz. \nFalls Du von außerhalb der WohnUnion gern dazukommen und helfen magst\, sende uns eine Mail an:\ninteresse@wohnunion-halle.de
URL:https://wohnunion-halle.de/termin/subbotnik-13-projektintern/
CATEGORIES:Genossenschaft
ATTACH;FMTTYPE=image/jpeg:https://wohnunion-halle.de/WUedit/wp-content/uploads/2022/11/weihnachts_subbotnik.jpg
END:VEVENT
END:VCALENDAR