BEGIN:VCALENDAR
VERSION:2.0
PRODID:-//WohnUnion Halle - ECPv6.15.7//NONSGML v1.0//EN
CALSCALE:GREGORIAN
METHOD:PUBLISH
X-WR-CALNAME:WohnUnion Halle
X-ORIGINAL-URL:https://wohnunion-halle.de
X-WR-CALDESC:Veranstaltungen für WohnUnion Halle
REFRESH-INTERVAL;VALUE=DURATION:PT1H
X-Robots-Tag:noindex
X-PUBLISHED-TTL:PT1H
BEGIN:VTIMEZONE
TZID:Europe/Berlin
BEGIN:DAYLIGHT
TZOFFSETFROM:+0100
TZOFFSETTO:+0200
TZNAME:CEST
DTSTART:20220327T010000
END:DAYLIGHT
BEGIN:STANDARD
TZOFFSETFROM:+0200
TZOFFSETTO:+0100
TZNAME:CET
DTSTART:20221030T010000
END:STANDARD
BEGIN:DAYLIGHT
TZOFFSETFROM:+0100
TZOFFSETTO:+0200
TZNAME:CEST
DTSTART:20230326T010000
END:DAYLIGHT
BEGIN:STANDARD
TZOFFSETFROM:+0200
TZOFFSETTO:+0100
TZNAME:CET
DTSTART:20231029T010000
END:STANDARD
BEGIN:DAYLIGHT
TZOFFSETFROM:+0100
TZOFFSETTO:+0200
TZNAME:CEST
DTSTART:20240331T010000
END:DAYLIGHT
BEGIN:STANDARD
TZOFFSETFROM:+0200
TZOFFSETTO:+0100
TZNAME:CET
DTSTART:20241027T010000
END:STANDARD
END:VTIMEZONE
BEGIN:VEVENT
DTSTART;TZID=Europe/Berlin:20230302T190000
DTEND;TZID=Europe/Berlin:20230302T220000
DTSTAMP:20260423T150039
CREATED:20230213T140412Z
LAST-MODIFIED:20230213T140412Z
UID:1535-1677783600-1677794400@wohnunion-halle.de
SUMMARY:1. Vereins-Stammtisch
DESCRIPTION:Du möchtest gern Aktivitäten im Neumarkt-Viertel kreativ mit gestalten? \nUm gemeinsam Ideen zu entwickeln und auf den Weg zu bringen\, laden wir dich zu einem regelmäßigen Stammtisch ein.\nDieser trifft sich in den ungeraden Monaten (Januar\, März\, Mai\, Juli\, September\, November) immer am ersten Donnerstag um 19:00 Uhr.  \nDer erste Termin ist der 02.März 19 Uhr im „Mo’s Daniel’s“ (Ecke Hermannstraße/Bernburger Straße).\nWir freuen uns darauf\, dich da zu sehen.
URL:https://wohnunion-halle.de/termin/1-vereins-stammtisch/
LOCATION:Bar Mo’s Daniel’s\, Bernburger Straße 1\, Halle
CATEGORIES:Verein
END:VEVENT
BEGIN:VEVENT
DTSTART;TZID=Europe/Berlin:20230310T140000
DTEND;TZID=Europe/Berlin:20230310T180000
DTSTAMP:20260423T150039
CREATED:20230213T141547Z
LAST-MODIFIED:20230213T141547Z
UID:1541-1678456800-1678471200@wohnunion-halle.de
SUMMARY:2. Visions-Workshop
DESCRIPTION:Wir laden Dich herzlich zu unserem 2. Visionsworkshop zum Thema Quartiersentwicklung im Neumarktviertel ein. \nDie Veranstaltung findet von 14.00-18.00 Uhr im Gemeindesaal der Laurentiusgemeinde in der Breite Straße 29 statt. In einem ersten Workshop haben wir uns mit der Frage beschäftigt\, wie\nvorhandene freie Räume in unserem Wohnprojekt und im Quartier durch zivilgesellschaftliche Gruppen und auch im gewerblichen Kontext genutzt werden können. \nIn diesem Workshop wollen wir uns nun konkret mit der sogenannten „Boxhalle“ beschäftigen. Das Industriedenkmal befindet sich in einem Hinterhof der Hermannstraße und kann in einem\nspäteren Bauabschnitt Teil der Wohnunion Halle eG werden. Das Gebäude kann nicht zu Wohnzwecken genutzt werden und ist stark sanierungsbedürftig. Um eine Nutzung zu ermöglichen\, bedarf es\nsowohl eines innovativen Nutzungskonzepts als auch der Beteiligung von engagierten Bürger*innen der Stadt. Darum möchten wir Dich einladen\, gemeinsam mit uns Bedarfe zu sammeln und weitere Schritte zur Umsetzung der gesammelten Ideen festzulegen. Dabei steht auch der Vernetzungsgedanke im Mittelpunkt unseres Anliegens. Die Wohnunion versteht sich als Raumgeberin\, Ermöglicherin und möchte natürlich auch selbst Initiative ergreifen und mit eigenen Ideen wirken. \nEingeladen sind Anwohner*innen; Gruppen\, Initiativen und Gewerbetreibende\, die schon einen Bedarf gemeldet haben; Vertreter*innen der Kommune\, der Stadtentwicklung und -planung; Vertreter*innen der HWG und Vertreter*innen der Stadtgesellschaft. \nWir finden es eine Bereicherung\, Dich bei unserem Visionsworkshop begrüßen zu können und freuen uns über eine Rückmeldung zur Teilnahme an interesse@wohnunion-halle.de
URL:https://wohnunion-halle.de/termin/2-visions-workshop/
LOCATION:Gemeindesaal der Laurentiusgemeinde\, Breite Straße 29\, Halle
CATEGORIES:Genossenschaft,Verein
END:VEVENT
BEGIN:VEVENT
DTSTART;TZID=Europe/Berlin:20230318T100000
DTEND;TZID=Europe/Berlin:20230318T160000
DTSTAMP:20260423T150039
CREATED:20230119T211929Z
LAST-MODIFIED:20230119T211929Z
UID:1530-1679133600-1679155200@wohnunion-halle.de
SUMMARY:SUBBOTNIK #15
DESCRIPTION:Arbeitseinsatz jeden 3. Samstag im Monat in den Häusern mit leckerer bio-veganer Suppe zur Stärkung. \nFolgende Arbeit gibt es hauptsächlich zu tun:\n(Beschreibung erscheint hier in der Woche) \nFalls Du von außerhalb der WohnUnion gern dazukommen und helfen magst\, sende uns eine Mail an:\ninteresse@wohnunion-halle.de
URL:https://wohnunion-halle.de/termin/subbotnik-15/
LOCATION:Georg-Cantor-Straße 7
CATEGORIES:Genossenschaft
ATTACH;FMTTYPE=image/jpeg:https://wohnunion-halle.de/WUedit/wp-content/uploads/2022/05/2022_Arbeitseinsatz.jpg
END:VEVENT
BEGIN:VEVENT
DTSTART;TZID=Europe/Berlin:20230325T150000
DTEND;TZID=Europe/Berlin:20230325T190000
DTSTAMP:20260423T150039
CREATED:20230213T140915Z
LAST-MODIFIED:20230222T220146Z
UID:1538-1679756400-1679770800@wohnunion-halle.de
SUMMARY:Wanderung nach Angersdorf
DESCRIPTION:Als erstes Sozial-Event in 2023 laden wir dich herzlich zu einer Wanderung nach Angersdorf ein. \nWir treffen uns 15 Uhr am Holzplatz in Halle und laufen entspannt (auch für Kinder geeignet) zu unserem Hof in Angersdorf.\nDort erwartet dich ein wärmendes Feuer\, eine Suppe zur Stärkung und die Gelegenheit miteinander ins Plaudern zu kommen. \nSchreib eine Mail an interesse@wohnunion-halle.de wenn du mit dabei sein willst.
URL:https://wohnunion-halle.de/termin/wanderung-nach-angersdorf/
LOCATION:WUK Theater\, Holzplatz 7a\, Halle
CATEGORIES:Genossenschaft
END:VEVENT
END:VCALENDAR