BEGIN:VCALENDAR
VERSION:2.0
PRODID:-//WohnUnion Halle - ECPv6.15.7//NONSGML v1.0//EN
CALSCALE:GREGORIAN
METHOD:PUBLISH
X-WR-CALNAME:WohnUnion Halle
X-ORIGINAL-URL:https://wohnunion-halle.de
X-WR-CALDESC:Veranstaltungen für WohnUnion Halle
REFRESH-INTERVAL;VALUE=DURATION:PT1H
X-Robots-Tag:noindex
X-PUBLISHED-TTL:PT1H
BEGIN:VTIMEZONE
TZID:Europe/Berlin
BEGIN:DAYLIGHT
TZOFFSETFROM:+0100
TZOFFSETTO:+0200
TZNAME:CEST
DTSTART:20220327T010000
END:DAYLIGHT
BEGIN:STANDARD
TZOFFSETFROM:+0200
TZOFFSETTO:+0100
TZNAME:CET
DTSTART:20221030T010000
END:STANDARD
BEGIN:DAYLIGHT
TZOFFSETFROM:+0100
TZOFFSETTO:+0200
TZNAME:CEST
DTSTART:20230326T010000
END:DAYLIGHT
BEGIN:STANDARD
TZOFFSETFROM:+0200
TZOFFSETTO:+0100
TZNAME:CET
DTSTART:20231029T010000
END:STANDARD
BEGIN:DAYLIGHT
TZOFFSETFROM:+0100
TZOFFSETTO:+0200
TZNAME:CEST
DTSTART:20240331T010000
END:DAYLIGHT
BEGIN:STANDARD
TZOFFSETFROM:+0200
TZOFFSETTO:+0100
TZNAME:CET
DTSTART:20241027T010000
END:STANDARD
END:VTIMEZONE
BEGIN:VEVENT
DTSTART;TZID=Europe/Berlin:20230415T100000
DTEND;TZID=Europe/Berlin:20230415T160000
DTSTAMP:20260423T131233
CREATED:20230329T103258Z
LAST-MODIFIED:20230413T201956Z
UID:1558-1681552800-1681574400@wohnunion-halle.de
SUMMARY:SUBBOTNIK #16
DESCRIPTION:Arbeitseinsatz jeden 3. Samstag im Monat in den Häusern mit leckerer bio-veganer Suppe zur Stärkung. \nFolgende Arbeit gibt es hauptsächlich zu tun:\n– Steine stapeln\, Steine stapeln\, Steine stapeln\n– Gerüststellflächen freiräumen\n– Gipskarton und Grünschnitt in die Hordorfer Straße fahren \nFalls Du von außerhalb der WohnUnion gern dazukommen und helfen magst\, sende uns eine Mail an:\ninteresse@wohnunion-halle.de
URL:https://wohnunion-halle.de/termin/subbotnik-16/
LOCATION:Georg-Cantor-Straße 7
CATEGORIES:Genossenschaft
ATTACH;FMTTYPE=image/jpeg:https://wohnunion-halle.de/WUedit/wp-content/uploads/2023/03/Subbotnik-16.jpg
END:VEVENT
END:VCALENDAR