BEGIN:VCALENDAR
VERSION:2.0
PRODID:-//WohnUnion Halle - ECPv6.15.7//NONSGML v1.0//EN
CALSCALE:GREGORIAN
METHOD:PUBLISH
X-ORIGINAL-URL:https://wohnunion-halle.de
X-WR-CALDESC:Veranstaltungen für WohnUnion Halle
REFRESH-INTERVAL;VALUE=DURATION:PT1H
X-Robots-Tag:noindex
X-PUBLISHED-TTL:PT1H
BEGIN:VTIMEZONE
TZID:Europe/Berlin
BEGIN:DAYLIGHT
TZOFFSETFROM:+0100
TZOFFSETTO:+0200
TZNAME:CEST
DTSTART:20220327T010000
END:DAYLIGHT
BEGIN:STANDARD
TZOFFSETFROM:+0200
TZOFFSETTO:+0100
TZNAME:CET
DTSTART:20221030T010000
END:STANDARD
BEGIN:DAYLIGHT
TZOFFSETFROM:+0100
TZOFFSETTO:+0200
TZNAME:CEST
DTSTART:20230326T010000
END:DAYLIGHT
BEGIN:STANDARD
TZOFFSETFROM:+0200
TZOFFSETTO:+0100
TZNAME:CET
DTSTART:20231029T010000
END:STANDARD
BEGIN:DAYLIGHT
TZOFFSETFROM:+0100
TZOFFSETTO:+0200
TZNAME:CEST
DTSTART:20240331T010000
END:DAYLIGHT
BEGIN:STANDARD
TZOFFSETFROM:+0200
TZOFFSETTO:+0100
TZNAME:CET
DTSTART:20241027T010000
END:STANDARD
END:VTIMEZONE
BEGIN:VEVENT
DTSTART;TZID=Europe/Berlin:20230902T150000
DTEND;TZID=Europe/Berlin:20230902T210000
DTSTAMP:20260422T170411
CREATED:20230629T094234Z
LAST-MODIFIED:20230828T075903Z
UID:1636-1693666800-1693688400@wohnunion-halle.de
SUMMARY:Kunst & Straßenfest Neumarkt
DESCRIPTION:Fest im Neumarkt \nWir laden euch ein zu Kuchenbuffet\, Flohmarkt\, Kreativangeboten\, Speisen und Getränken\, Murmelbahn\, Riesenseifenblasen\, Miezuspielen! und nicht zuletzten einem spektakulären Bühnenprogramm: \n15:00 Extraviolette (Disko Funk Soul)\n16:00 Kinderchor der Gemeinde\n16:20 Kinder vom Hort Abenteuerland\n16:45 Toni Geiling (Familienkonzert)\n17:45 Shmekería (Balkan/Klezmer)\n18:30 Hohe4 (Chor)\n19:15 Kurts Kombüse (Songwriter)\n20:15 Organics (Funky Orgel Trio) \nKommt vorbei und feiert mit uns.\nWohnUnion e.V. | St. Laurentiusgemeinde | Ev. Stadtmission Halle | Hort Abenteuerland
URL:https://wohnunion-halle.de/termin/kunst-strassenfest-neumarkt/
LOCATION:Alter Neumarkt\, Kreuzung Breite Straße\, Laurentiusstraße\, Georg-Cantor-Straße
CATEGORIES:Verein
ATTACH;FMTTYPE=image/jpeg:https://wohnunion-halle.de/WUedit/wp-content/uploads/2023/06/2306_neum_flyer_web1.jpg
END:VEVENT
BEGIN:VEVENT
DTSTART;TZID=Europe/Berlin:20230902T153000
DTEND;TZID=Europe/Berlin:20230902T190000
DTSTAMP:20260422T170411
CREATED:20230817T094222Z
LAST-MODIFIED:20230817T095535Z
UID:1708-1693668600-1693681200@wohnunion-halle.de
SUMMARY:Stadt-Spiel: Quartier spielerisch grün denken
DESCRIPTION:für Kinder und Jugendliche\n\n\n\n\n→ 2. September 2023\n→ 15:30 – 17:00 Uhr & 17:30 – 19:00 Uhr\n→ am Neumarkt auf dem Straßenfest \nHier kommt ein fast klassisches Spielbrett zum Einsatz – aber der Jackpot ist ein Bündel voller Ideen für die Entwicklung des »Grünen Neumarktquartiers«.\nEingeladen sind Kinder und Jugendliche aus dem Quartier im Alter von 9 bis 13 und 14 bis 18 Jahren ihren Lieblingsort im Viertel oder die Ecke nebenan so zu denken\, dass es nachhaltig und lebenswert ausgerichtet ist. Das Spiel wird pädagogisch betreut. \n-> zur Anmeldung\n-> Mehr Infos zum Projekt hier
URL:https://wohnunion-halle.de/termin/stadt-spiel-quartier-spielerisch-gruen-denken/
LOCATION:Alter Neumarkt\, Kreuzung Breite Straße\, Laurentiusstraße\, Georg-Cantor-Straße
CATEGORIES:Verein
ATTACH;FMTTYPE=image/jpeg:https://wohnunion-halle.de/WUedit/wp-content/uploads/2023/08/collage_ws1_entwurf.jpg
END:VEVENT
BEGIN:VEVENT
DTSTART;TZID=Europe/Berlin:20230907T190000
DTEND;TZID=Europe/Berlin:20230907T210000
DTSTAMP:20260422T170411
CREATED:20230629T094345Z
LAST-MODIFIED:20230629T094345Z
UID:1638-1694113200-1694120400@wohnunion-halle.de
SUMMARY:4. Vereins-Stammtisch
DESCRIPTION:Du möchtest gern Aktivitäten im Neumarkt-Viertel kreativ mit gestalten? \nUm gemeinsam Ideen zu entwickeln und auf den Weg zu bringen\, laden wir dich zu einem regelmäßigen Stammtisch ein.\nDieser trifft sich in den ungeraden Monaten (Januar\, März\, Mai\, Juli\, September\, November) immer am ersten Donnerstag um 19:00 Uhr. \nDas vierte Treffen ist am 7. September 19 Uhr im „Mo’s Daniel’s“ (Ecke Hermannstraße/Bernburger Straße).\nWir freuen uns\, wenn du vorbeikommen magst.
URL:https://wohnunion-halle.de/termin/4-vereins-stammtisch-2/
LOCATION:Bar Mo’s Daniel’s\, Bernburger Straße 1\, Halle
CATEGORIES:Verein
END:VEVENT
BEGIN:VEVENT
DTSTART;TZID=Europe/Berlin:20230915T180000
DTEND;TZID=Europe/Berlin:20230915T200000
DTSTAMP:20260422T170411
CREATED:20230817T094759Z
LAST-MODIFIED:20230922T135151Z
UID:1711-1694800800-1694808000@wohnunion-halle.de
SUMMARY:VERSCHOBEN! Zukunfts-Werkstatt: Grüne Hand am Werk
DESCRIPTION:Angebot verschoben!\nDafür findet am 24. November 2023 von 15-19 Uhr eine Zukunftswerkstatt für alle zum Thema „Grünes Neumarktviertel 20235“ statt. Ort wird noch bekannt gegeben. \n→ 15. September 2023\n→ 18 – 20 Uhr\n→ im Volkspark\, kleiner Saal \nReichlich Ideenraum für Unternehmer:innen\, Repräsentant:innen der Verwaltung und sonstige Einrichtungen wird in der Zukunftswerkstatt generiert.\nIn der Fantasie- und Utopiephase wird dabei die Gelegenheit geboten zum thinking out the box\, um möglichst vielseitige Ansätze für das künftige »Grüne Neumarktquartier« zu entwickeln. \n-> Mehr Infos zum Projekt hier
URL:https://wohnunion-halle.de/termin/zukunfts-werkstatt-gruene-hand-am-werk/
LOCATION:Volkspark\, Schleifweg 8a\, Halle/Saale\, 06114
CATEGORIES:Verein
ATTACH;FMTTYPE=image/jpeg:https://wohnunion-halle.de/WUedit/wp-content/uploads/2023/08/collage_ws2.jpg
END:VEVENT
BEGIN:VEVENT
DTSTART;TZID=Europe/Berlin:20230916T100000
DTEND;TZID=Europe/Berlin:20230916T160000
DTSTAMP:20260422T170411
CREATED:20230629T094455Z
LAST-MODIFIED:20230629T094455Z
UID:1640-1694858400-1694880000@wohnunion-halle.de
SUMMARY:SUBBOTNIK #22
DESCRIPTION:Arbeitseinsatz jeden 3. Samstag im Monat – in den Häusern und im Hof – mit leckerer bio-veganer Suppe zur Stärkung. \nFolgende Arbeit gibt es hauptsächlich zu tun:\n(wird ein paar Tage vorher hier) \nFalls Du von außerhalb der WohnUnion gern dazukommen und helfen magst\, sende uns eine Mail an:\ninteresse@wohnunion-halle.de
URL:https://wohnunion-halle.de/termin/subbotnik-22/
LOCATION:Georg-Cantor-Straße 7
CATEGORIES:Genossenschaft
END:VEVENT
BEGIN:VEVENT
DTSTART;TZID=Europe/Berlin:20230922T150000
DTEND;TZID=Europe/Berlin:20230922T170000
DTSTAMP:20260422T170411
CREATED:20230817T095013Z
LAST-MODIFIED:20230922T135156Z
UID:1714-1695394800-1695402000@wohnunion-halle.de
SUMMARY:VERSCHOBEN! World-Café: Grüner Schwarm im Quartier
DESCRIPTION:Angebot verschoben!\nDafür findet am 24. November 2023 von 15-19 Uhr eine Zukunftswerkstatt für alle zum Thema „Grünes Neumarktviertel 20235“ statt. Ort wird noch bekannt gegeben. \n→ 22. September 2023\n→ 15 – 17 Uhr\n→ in der WohnUnion\, Georg-Cantor-Straße 7\n \nGenug geredet: Klimaschutz ganz konkret – bei mir und dir vor und hinter der Haustür. Das Worldcafé bietet allen interessierten Menschen die Möglichkeit\, sich thematisch und fachlich einzubringen.\nWir nähern uns in wechselnden Kleingruppen und an unterschiedlichen Tischen dem Thema an. Aus dem bunten Schwarm an Menschen werden so vielfältige konkrete Ideen entwickelt\, die als Vorschläge für das »Grüne Neumarktquartier« dienen. \n-> Mehr Infos zum Projekt hier
URL:https://wohnunion-halle.de/termin/world-cafe-gruener-schwarm-im-quartier/
LOCATION:Georg-Cantor-Straße 7
CATEGORIES:Verein
ATTACH;FMTTYPE=image/jpeg:https://wohnunion-halle.de/WUedit/wp-content/uploads/2023/08/collage_ws3.jpg
END:VEVENT
BEGIN:VEVENT
DTSTART;TZID=Europe/Berlin:20230929T170000
DTEND;TZID=Europe/Berlin:20230929T203000
DTSTAMP:20260422T170411
CREATED:20230817T095352Z
LAST-MODIFIED:20230922T135139Z
UID:1716-1696006800-1696019400@wohnunion-halle.de
SUMMARY:VERSCHOBEN! Bar-Camp: Divers und grün einquartiert
DESCRIPTION:Angebot verschoben!\nDafür findet am 24. November 2023 von 15-19 Uhr eine Zukunftswerkstatt für alle zum Thema „Grünes Neumarktviertel 20235“ statt. Ort wird noch bekannt gegeben. \n→ 29. September 2023\n→ 17 – 20:30 Uhr\n→ Lebensreich\, Bernburger Straße 7\n \nInteressierte Teilnehmende nutzen im Barcamp den Raum\, um ihre Themen und Anliegen vorzustellen\, mit Input anzureichern und gemeinsam nach Handlungsansätzen zu suchen.\nIn dem selbstorganisierten Austauschformat liegt der Schwerpunkt darauf\, diverse Stimmen zum Thema »Grünes Neumarktquartier« zu hören. \nDas Barcamp richtet sich insbesondere an Frauen\, FLINTA und BIPoC\, die an diverser\, nachhaltiger Stadtentwicklung interessiert sind. \n-> Mehr Infos zum Projekt hier
URL:https://wohnunion-halle.de/termin/bar-camp-divers-und-gruen-einquartiert/
LOCATION:Lebensreich\, Bernburger Straße 7\, Halle/Saale\, 06108
CATEGORIES:Verein
ATTACH;FMTTYPE=image/jpeg:https://wohnunion-halle.de/WUedit/wp-content/uploads/2023/08/gruener_neumarkt_barcamp_divers_und_gruen_einquartiert.jpg
END:VEVENT
END:VCALENDAR