BEGIN:VCALENDAR
VERSION:2.0
PRODID:-//WohnUnion Halle - ECPv6.15.7//NONSGML v1.0//EN
CALSCALE:GREGORIAN
METHOD:PUBLISH
X-ORIGINAL-URL:https://wohnunion-halle.de
X-WR-CALDESC:Veranstaltungen für WohnUnion Halle
REFRESH-INTERVAL;VALUE=DURATION:PT1H
X-Robots-Tag:noindex
X-PUBLISHED-TTL:PT1H
BEGIN:VTIMEZONE
TZID:Europe/Berlin
BEGIN:DAYLIGHT
TZOFFSETFROM:+0100
TZOFFSETTO:+0200
TZNAME:CEST
DTSTART:20230326T010000
END:DAYLIGHT
BEGIN:STANDARD
TZOFFSETFROM:+0200
TZOFFSETTO:+0100
TZNAME:CET
DTSTART:20231029T010000
END:STANDARD
BEGIN:DAYLIGHT
TZOFFSETFROM:+0100
TZOFFSETTO:+0200
TZNAME:CEST
DTSTART:20240331T010000
END:DAYLIGHT
BEGIN:STANDARD
TZOFFSETFROM:+0200
TZOFFSETTO:+0100
TZNAME:CET
DTSTART:20241027T010000
END:STANDARD
BEGIN:DAYLIGHT
TZOFFSETFROM:+0100
TZOFFSETTO:+0200
TZNAME:CEST
DTSTART:20250330T010000
END:DAYLIGHT
BEGIN:STANDARD
TZOFFSETFROM:+0200
TZOFFSETTO:+0100
TZNAME:CET
DTSTART:20251026T010000
END:STANDARD
END:VTIMEZONE
BEGIN:VEVENT
DTSTART;VALUE=DATE:20240315
DTEND;VALUE=DATE:20240317
DTSTAMP:20260422T164946
CREATED:20240123T170141Z
LAST-MODIFIED:20240131T160413Z
UID:1883-1710460800-1710633599@wohnunion-halle.de
SUMMARY:Geodesign-Workshop
DESCRIPTION:offen für alle interessierten Bürger:innen\n\n\n→ Freitag\, 15. März 2024\, 15 – 18 Uhr\n→ Samstag\, 16. März 2024\, 10 – 14 Uhr\n→ Puschkinhaus\, Kardinal-Albrecht-Straße 6 \nDie Vorschläge\, Ideen und Diskussionsbeiträge für ein klima- und generationengerechtes Neumarktquartier aus den Workshops 2023 wurden in eine digitale Bibliothek eingearbeitet und dienen als Grundlage für den Geodesign-Workshop. Hier sollen die konkreten Zukunftsszenarien für ein grünes und lebenswertes Quartier unter fachkundiger Anleitung weiterentwickelt\, diskutiert und verhandelt werden. Als Ergebnis entsteht eine Karte\, die konkrete\, räumlich verortete und von der Gemeinschaft getragene Maßnahmen darstellt. Diese Roadmap dient als Empfehlung für die kommende Entwicklung des Stadtquartiers. \nBitte bringt\, wenn möglich\, einen eigenen Laptop mit\, um aktiv am Workshop teilnehmen zu können. Das Mitwirken und Diskutieren ist auch ohne Laptop möglich. Wir freuen uns darauf\, gemeinsam mit euch die Zukunft des Neumarktquartiers zu gestalten. \nZur besseren Planbarkeit bitten wir um eine Anmeldung\nbis zum 10. März an: revierpioniere@wohnunion-halle.de
URL:https://wohnunion-halle.de/termin/geodesign-workshop/
LOCATION:Puschkinhaus\, Kardinal-Albrecht-Straße 6\, Halle (Saale)
CATEGORIES:Verein
ATTACH;FMTTYPE=image/jpeg:https://wohnunion-halle.de/WUedit/wp-content/uploads/2023/08/collage_ws3.jpg
END:VEVENT
BEGIN:VEVENT
DTSTART;TZID=Europe/Berlin:20240316T100000
DTEND;TZID=Europe/Berlin:20240316T160000
DTSTAMP:20260422T164946
CREATED:20240123T170735Z
LAST-MODIFIED:20240123T170735Z
UID:1888-1710583200-1710604800@wohnunion-halle.de
SUMMARY:SUBBOTNIK
DESCRIPTION:Großer offener Arbeitseinsatz jeden 3. Samstag im Monat – in den Häusern und im Hof – mit leckerer bio-veganer Suppe zur Mittags-Stärkung (meist 13 Uhr). \nFalls Du von außerhalb der WohnUnion gern dazukommen und helfen magst\, sende uns eine Mail an:\ninteresse@wohnunion-halle.de
URL:https://wohnunion-halle.de/termin/subbotnik-3/
LOCATION:Hermannstraße 10
CATEGORIES:Genossenschaft
END:VEVENT
END:VCALENDAR