BEGIN:VCALENDAR
VERSION:2.0
PRODID:-//WohnUnion Halle - ECPv6.15.7//NONSGML v1.0//EN
CALSCALE:GREGORIAN
METHOD:PUBLISH
X-ORIGINAL-URL:https://wohnunion-halle.de
X-WR-CALDESC:Veranstaltungen für WohnUnion Halle
REFRESH-INTERVAL;VALUE=DURATION:PT1H
X-Robots-Tag:noindex
X-PUBLISHED-TTL:PT1H
BEGIN:VTIMEZONE
TZID:Europe/Berlin
BEGIN:DAYLIGHT
TZOFFSETFROM:+0100
TZOFFSETTO:+0200
TZNAME:CEST
DTSTART:20230326T010000
END:DAYLIGHT
BEGIN:STANDARD
TZOFFSETFROM:+0200
TZOFFSETTO:+0100
TZNAME:CET
DTSTART:20231029T010000
END:STANDARD
BEGIN:DAYLIGHT
TZOFFSETFROM:+0100
TZOFFSETTO:+0200
TZNAME:CEST
DTSTART:20240331T010000
END:DAYLIGHT
BEGIN:STANDARD
TZOFFSETFROM:+0200
TZOFFSETTO:+0100
TZNAME:CET
DTSTART:20241027T010000
END:STANDARD
BEGIN:DAYLIGHT
TZOFFSETFROM:+0100
TZOFFSETTO:+0200
TZNAME:CEST
DTSTART:20250330T010000
END:DAYLIGHT
BEGIN:STANDARD
TZOFFSETFROM:+0200
TZOFFSETTO:+0100
TZNAME:CET
DTSTART:20251026T010000
END:STANDARD
END:VTIMEZONE
BEGIN:VEVENT
DTSTART;TZID=Europe/Berlin:20240817T150000
DTEND;TZID=Europe/Berlin:20240817T190000
DTSTAMP:20260423T024618
CREATED:20240513T152021Z
LAST-MODIFIED:20240731T181814Z
UID:1971-1723906800-1723921200@wohnunion-halle.de
SUMMARY:Fest im Neumarktviertel
DESCRIPTION:Dieses Jahr findet wieder das Fest im Neumarktviertel am Samstag\, den 17. August am Neumarkt statt. Von 15 bis 19 Uhr gibt es wieder eine Bühne\, Riesenseifenblasen\, Kaffee und Kuchen\, Mitmach-Angebote und viel Raum zur Begegnung. Kommt vorbei und feiert mit uns und dem Quartier. \nBühnenprogramm: \n15 Uhr The Brocken Keys (Blues Rock)\n16 Uhr Kinderchor der Friedemann-Bach-Schule\n16:30 FourStringCompany (Musikakrobatik)\n17:30 Folktanz mit Gehupft wie Gesprungen e.V.\n18:15 Sigitaobe (Indie Pop Rock) \nZusammen mit St. Laurentiusgemeinde\, Ev. Stadtmission Halle\, Hort Abenteuerland und der Ev. Kirche St. Laurentius
URL:https://wohnunion-halle.de/termin/fest-im-neumarktviertel/
ATTACH;FMTTYPE=image/jpeg:https://wohnunion-halle.de/WUedit/wp-content/uploads/2024/05/Neumarktfest2.jpg
END:VEVENT
END:VCALENDAR