BEGIN:VCALENDAR
VERSION:2.0
PRODID:-//WohnUnion Halle - ECPv6.15.7//NONSGML v1.0//EN
CALSCALE:GREGORIAN
METHOD:PUBLISH
X-WR-CALNAME:WohnUnion Halle
X-ORIGINAL-URL:https://wohnunion-halle.de
X-WR-CALDESC:Veranstaltungen für WohnUnion Halle
REFRESH-INTERVAL;VALUE=DURATION:PT1H
X-Robots-Tag:noindex
X-PUBLISHED-TTL:PT1H
BEGIN:VTIMEZONE
TZID:Europe/Berlin
BEGIN:DAYLIGHT
TZOFFSETFROM:+0100
TZOFFSETTO:+0200
TZNAME:CEST
DTSTART:20240331T010000
END:DAYLIGHT
BEGIN:STANDARD
TZOFFSETFROM:+0200
TZOFFSETTO:+0100
TZNAME:CET
DTSTART:20241027T010000
END:STANDARD
BEGIN:DAYLIGHT
TZOFFSETFROM:+0100
TZOFFSETTO:+0200
TZNAME:CEST
DTSTART:20250330T010000
END:DAYLIGHT
BEGIN:STANDARD
TZOFFSETFROM:+0200
TZOFFSETTO:+0100
TZNAME:CET
DTSTART:20251026T010000
END:STANDARD
BEGIN:DAYLIGHT
TZOFFSETFROM:+0100
TZOFFSETTO:+0200
TZNAME:CEST
DTSTART:20260329T010000
END:DAYLIGHT
BEGIN:STANDARD
TZOFFSETFROM:+0200
TZOFFSETTO:+0100
TZNAME:CET
DTSTART:20261025T010000
END:STANDARD
END:VTIMEZONE
BEGIN:VEVENT
DTSTART;TZID=Europe/Berlin:20250107T200000
DTEND;TZID=Europe/Berlin:20250107T220000
DTSTAMP:20260423T120332
CREATED:20250103T130334Z
LAST-MODIFIED:20250103T130354Z
UID:2114-1736280000-1736287200@wohnunion-halle.de
SUMMARY:5. Lesekreis-Abend
DESCRIPTION:Wir lesen einander vor und kommen darüber ins Gespräch.\nWir treffen uns einmal im Monat dienstags um 20 Uhr in der Georg-Cantor-Straße 7.\n \n5. Abend am 7.1. „Wunderkind oder ungezogener Bengel?“\nDer 12-jährige Jesus im Tempel: Wir lesen die einzige Kindheitsgeschichte der Evangelien und sehen in Gemälden des 19. und 20. Jahrhunderts ganz verschiedene Konzepte von Kindheit. \nDer Abend findet vorübergehenden im Büro vom Verein in der Georg-Cantor-Str.7\, 1.OG statt! \nZum kompletten Programm der Lesereihe als PDF -> HIER entlang \nBei Fragen gern melden:\nCurt Stauss / 0176 2432 6171 / curt.stauss@t-online.de
URL:https://wohnunion-halle.de/termin/5-lesekreis-abend/
LOCATION:Georg-Cantor-Straße 7
CATEGORIES:Verein
ATTACH;FMTTYPE=image/png:https://wohnunion-halle.de/WUedit/wp-content/uploads/2025/01/3.png
END:VEVENT
BEGIN:VEVENT
DTSTART;TZID=Europe/Berlin:20250116T153000
DTEND;TZID=Europe/Berlin:20250116T183000
DTSTAMP:20260423T120332
CREATED:20241219T114159Z
LAST-MODIFIED:20241219T115851Z
UID:2108-1737041400-1737052200@wohnunion-halle.de
SUMMARY:Strukturwandel-Werkstatt: “Bauen und Wohnen – Partizipative Projektentwicklung”
DESCRIPTION:Ein Workshop zur Demokratiebildung in Kooperation mit dem Netzwerk Zukunft Sachsen-Anhalt\n \nWann? Donnerstag\, 16.01.2025\, 15:30-18:30 Uhr\nWo? Online (Zoom-Konferenz) \nVielerorts entstehen zurzeit gemeinschaftliche Wohnprojekte. Viele von ihnen wollen den Wohnungsmangel solidarisch-ökologisch angehen und die Abhängigkeit vom spekulativen Wohnungsmarkt verringern\, möglichst nachhaltig bauen und die Projekte demokratisch-partizipativ entwickeln. Nicht nur in Städten mit knappem Wohnraum\, auch in ländlichen Gebieten wächst das Interesse an neuen Wohnformen. \nIn der Strukturwandel-Werkstatt wird es um die Frage gehen\, wie Partizipation in Wohnprojekten möglichst basisdemokratisch und in flachen Hierarchien gelingen kann. \n\nWelche Kooperationsformen\, Strukturen und Kommunikationsregeln sind für Wohnprojekte förderlich?\nWie funktionieren Abstimmungsverfahren nach dem Konsens- und Konsentprinzip?\nWie kann ein Netzwerk (für ein Wohnprojekt) gebildet werden und was schafft Verbindlichkeit?\nWas können Initiativen\, die sich im Strukturwandelgebiet für eine nachhaltige Transformation engagieren\, von gemeinschaftlichen Projekten mitnehmen?\n\nZu der Strukturwandel-Werkstatt sind alle Interessierten – mit oder ohne Erfahrung mit Wohnprojekten – eingeladen\, sich zu konkreten oder erdachten Wohnprojekten auszutauschen und von unserer Erfahrung zu profitieren. \nBitte bis 10. Januar 2025 hier anmelden: Netzwerk Zukunft Sachsen Anhalt
URL:https://wohnunion-halle.de/termin/strukturwandel-werkstatt/
LOCATION:online
ATTACH;FMTTYPE=image/png:https://wohnunion-halle.de/WUedit/wp-content/uploads/2024/12/bauenwohnen-januar-2025-Instagram-Post.png
END:VEVENT
END:VCALENDAR