BEGIN:VCALENDAR
VERSION:2.0
PRODID:-//WohnUnion Halle - ECPv6.15.7//NONSGML v1.0//EN
CALSCALE:GREGORIAN
METHOD:PUBLISH
X-ORIGINAL-URL:https://wohnunion-halle.de
X-WR-CALDESC:Veranstaltungen für WohnUnion Halle
REFRESH-INTERVAL;VALUE=DURATION:PT1H
X-Robots-Tag:noindex
X-PUBLISHED-TTL:PT1H
BEGIN:VTIMEZONE
TZID:Europe/Berlin
BEGIN:DAYLIGHT
TZOFFSETFROM:+0100
TZOFFSETTO:+0200
TZNAME:CEST
DTSTART:20240331T010000
END:DAYLIGHT
BEGIN:STANDARD
TZOFFSETFROM:+0200
TZOFFSETTO:+0100
TZNAME:CET
DTSTART:20241027T010000
END:STANDARD
BEGIN:DAYLIGHT
TZOFFSETFROM:+0100
TZOFFSETTO:+0200
TZNAME:CEST
DTSTART:20250330T010000
END:DAYLIGHT
BEGIN:STANDARD
TZOFFSETFROM:+0200
TZOFFSETTO:+0100
TZNAME:CET
DTSTART:20251026T010000
END:STANDARD
BEGIN:DAYLIGHT
TZOFFSETFROM:+0100
TZOFFSETTO:+0200
TZNAME:CEST
DTSTART:20260329T010000
END:DAYLIGHT
BEGIN:STANDARD
TZOFFSETFROM:+0200
TZOFFSETTO:+0100
TZNAME:CET
DTSTART:20261025T010000
END:STANDARD
END:VTIMEZONE
BEGIN:VEVENT
DTSTART;TZID=Europe/Berlin:20250505T190000
DTEND;TZID=Europe/Berlin:20250505T210000
DTSTAMP:20260420T111424
CREATED:20250430T130927Z
LAST-MODIFIED:20250430T130927Z
UID:2486-1746471600-1746478800@wohnunion-halle.de
SUMMARY:Ukulele für alle
DESCRIPTION:Ukulele für alle \nEgal ob Anfänger*in oder schon viel geübt – hier bist du genau richtig.\nUkulele spielen macht einfach Spaß und in der Gruppe ist es noch schöner! \nAm Montag\, den 05.05.25 trifft sich die Gruppe um 19 Uhr zum ersten Mal in den Vally Guttmann Räumlichkeiten.\nDer Ukulele-Treff  wird danach immer einmal im Monat in der stattfinden. \nFür die Raumnutzung wird um Spenden gebeten. \nHier findest du das Songbook\, das wir meistens verwenden: https://my.hidrive.com/Ink/KeSz2fR4#file
URL:https://wohnunion-halle.de/termin/ukulele-fuer-alle/
CATEGORIES:externer Veranstalter
ATTACH;FMTTYPE=image/png:https://wohnunion-halle.de/WUedit/wp-content/uploads/2025/04/Ukulelefueralle-1-e1772192404234.png
END:VEVENT
BEGIN:VEVENT
DTSTART;TZID=Europe/Berlin:20250506T200000
DTEND;TZID=Europe/Berlin:20250506T213000
DTSTAMP:20260420T111425
CREATED:20250423T095410Z
LAST-MODIFIED:20250423T183120Z
UID:2467-1746561600-1746567000@wohnunion-halle.de
SUMMARY:7. Lesekreis-Abend: Ich mit 7 Jahren
DESCRIPTION:6. Mai 2025 | \nWir lesen einander vor und kommen darüber ins Gespräch.\nWir treffen uns einmal im Monat dienstags um 20 Uhr in der Georg-Cantor-Straße 7. \n7. Abend am 6. Mai „Ich mit 7 Jahren“\nWie fern ist meine Kindheit? Und wieviel davon lebt in mir? Wir malen – und wir ‚lesen‘ in unseren Erinnerungen… \nDer Abend findet in der neu eröffneten Vally Guttmann statt (Erdgeschoss Georg-Cantor-Straße 7\, Zugang über den Vorgarten und Anbau). \nZum kompletten Programm der Lesereihe als PDF -> HIER entlang \nBei Fragen gern melden:\nCurt Stauss / 0176 2432 6171 / curt.stauss@t-online.de
URL:https://wohnunion-halle.de/termin/7-lesekreis-abend/
LOCATION:Vally Guttmann\, Georg-Cantor-Straße 7\, Halle
CATEGORIES:Verein
ATTACH;FMTTYPE=image/png:https://wohnunion-halle.de/WUedit/wp-content/uploads/2025/04/LesekreisMaiWebseite.png
END:VEVENT
BEGIN:VEVENT
DTSTART;TZID=Europe/Berlin:20250517T100000
DTEND;TZID=Europe/Berlin:20250517T160000
DTSTAMP:20260420T111425
CREATED:20250317T090036Z
LAST-MODIFIED:20250423T183234Z
UID:2326-1747476000-1747497600@wohnunion-halle.de
SUMMARY:Engel für einen Tag
DESCRIPTION:17. Mai 2025 | \nFreiwilligentag in Halle \nMacht mit und helft uns den Vorgarten für die neue Saison schön zu machen und den Vorbau / Eingang zu Vally Guttmann in der Georg-Cantor-Straße 7 umzugestalten.\nErgänzend zu unserem offenen Baueinsatz Samstags von 10-16 Uhr freuen wir uns über tatkräftige Unterstützung im Rahmen des Freiwilligentag Halle. \nAnmeldung unter: https://engagiert-in-halle.de/freiwilligentag
URL:https://wohnunion-halle.de/termin/engel-fuer-einen-tag/
LOCATION:Vally Guttmann\, Georg-Cantor-Straße 7\, Halle
CATEGORIES:Verein
ATTACH;FMTTYPE=image/png:https://wohnunion-halle.de/WUedit/wp-content/uploads/2025/03/headerbild_fwt2025_v6.png
END:VEVENT
BEGIN:VEVENT
DTSTART;TZID=Europe/Berlin:20250523T150000
DTEND;TZID=Europe/Berlin:20250523T190000
DTSTAMP:20260420T111425
CREATED:20250323T140034Z
LAST-MODIFIED:20250507T123326Z
UID:2324-1748012400-1748026800@wohnunion-halle.de
SUMMARY:Tag der Nachbarschaft 2025
DESCRIPTION:23. Mai 2025 | \nWir laden wieder ein zum Tag der Nachbarschaft\nam Freitag\, den 23. Mai 2025 von 15 bis 19 Uhr \nFreut euch auf einen kunterbunten Mitmachtag mit tollen Aktionen\, netten Begegnungen und Livemusik!\nIn unserer neuen\, großzügigen Küche könnt ihr gemeinsam Pizza und Kuchen backen\, euch im Vorgarten mit einem kühlen Getränk entspannen\noder an einem unserer kreativen Mitmachtische Platz nehmen. \nOb zum Kennenlernen\, Mitmachen oder einfach zum Verweilen – für alle ist etwas dabei.\nBringt gerne auch eure Lieblingsspiele mit! \nDu hast Lust\, dich mit einer eigenen Idee einzubringen oder beim Fest mitzuhelfen?\nDann melde dich einfach unter: vally@wohnunion-halle.de \nWir freuen uns auf einen fröhlichen und kunterbunten Tag mit euch!
URL:https://wohnunion-halle.de/termin/tag-der-nachbarschaft-2025/
LOCATION:Vally Guttmann\, Georg-Cantor-Straße 7\, Halle
CATEGORIES:Verein
ATTACH;FMTTYPE=image/jpeg:https://wohnunion-halle.de/WUedit/wp-content/uploads/2025/03/TdN_2025_Banner.jpg
END:VEVENT
END:VCALENDAR