BEGIN:VCALENDAR
VERSION:2.0
PRODID:-//WohnUnion Halle - ECPv6.15.7//NONSGML v1.0//EN
CALSCALE:GREGORIAN
METHOD:PUBLISH
X-ORIGINAL-URL:https://wohnunion-halle.de
X-WR-CALDESC:Veranstaltungen für WohnUnion Halle
REFRESH-INTERVAL;VALUE=DURATION:PT1H
X-Robots-Tag:noindex
X-PUBLISHED-TTL:PT1H
BEGIN:VTIMEZONE
TZID:Europe/Berlin
BEGIN:DAYLIGHT
TZOFFSETFROM:+0100
TZOFFSETTO:+0200
TZNAME:CEST
DTSTART:20240331T010000
END:DAYLIGHT
BEGIN:STANDARD
TZOFFSETFROM:+0200
TZOFFSETTO:+0100
TZNAME:CET
DTSTART:20241027T010000
END:STANDARD
BEGIN:DAYLIGHT
TZOFFSETFROM:+0100
TZOFFSETTO:+0200
TZNAME:CEST
DTSTART:20250330T010000
END:DAYLIGHT
BEGIN:STANDARD
TZOFFSETFROM:+0200
TZOFFSETTO:+0100
TZNAME:CET
DTSTART:20251026T010000
END:STANDARD
BEGIN:DAYLIGHT
TZOFFSETFROM:+0100
TZOFFSETTO:+0200
TZNAME:CEST
DTSTART:20260329T010000
END:DAYLIGHT
BEGIN:STANDARD
TZOFFSETFROM:+0200
TZOFFSETTO:+0100
TZNAME:CET
DTSTART:20261025T010000
END:STANDARD
END:VTIMEZONE
BEGIN:VEVENT
DTSTART;TZID=Europe/Berlin:20250806T190000
DTEND;TZID=Europe/Berlin:20250806T210000
DTSTAMP:20260424T141825
CREATED:20250801T102434Z
LAST-MODIFIED:20250801T102434Z
UID:2688-1754506800-1754514000@wohnunion-halle.de
SUMMARY:Frauenresonanzraum - Frauen im Dialog
DESCRIPTION:06.08.25/\nWir laden dich herzlich zum „Frauenresonanzraum“ im VALLY Guttmann Nachbarschaftsraum ein.\nSei dabei und komm mit anderen Frauen in den Dialog. \nDie Veranstaltung beginnt um 19:00 Uhr und endet um 21:00 Uhr.\nVor Ort gibt es die Möglichkeit kalte Getränke zu erwerben.
URL:https://wohnunion-halle.de/termin/frauenresonanzraum-frauen-im-dialog/
ATTACH;FMTTYPE=image/png:https://wohnunion-halle.de/WUedit/wp-content/uploads/2025/08/Frauen-im-Dialog_20250731_214759_0000-1.png
END:VEVENT
BEGIN:VEVENT
DTSTART;TZID=Europe/Berlin:20250810T110000
DTEND;TZID=Europe/Berlin:20250810T140000
DTSTAMP:20260424T141825
CREATED:20250801T125010Z
LAST-MODIFIED:20250801T125010Z
UID:2695-1754823600-1754834400@wohnunion-halle.de
SUMMARY:SchnippelSonntag
DESCRIPTION:10.08.25/ \nLust auf gemeinsames Kochen? Dann komm gerne vorbei!\nWir zaubern aus geretteten Lebensmitteln leckere Gerichte und essen gemeinsam.\nDu brauchst nichts mitzubringen\, außer Freude am gemeinschaftlichen Schnippel & Speisen. \nAb dem 10.08.25 findet der SchnippelSonntag wöchentlich von 11-14 Uhr im VALLY Guttmann Nachbarschaftsraum statt. \nMach mit – für mehr Gemeinschaft und weniger Verschwendung!
URL:https://wohnunion-halle.de/termin/schnippelsonntag/
ATTACH;FMTTYPE=image/png:https://wohnunion-halle.de/WUedit/wp-content/uploads/2025/08/Beige-Green-Organic-Illustrative-Cooking-Class-Flyer.png
END:VEVENT
BEGIN:VEVENT
DTSTART;TZID=Europe/Berlin:20250813T180000
DTEND;TZID=Europe/Berlin:20250813T200000
DTSTAMP:20260424T141825
CREATED:20250718T114649Z
LAST-MODIFIED:20250718T114807Z
UID:2683-1755108000-1755115200@wohnunion-halle.de
SUMMARY:Dialogreihe „Dazusetzen & Mitreden“ - „Kennst du Einsamkeit?“
DESCRIPTION:13.08.2025 I 18:00 – 20:00 \n\nKennt Ihr das auch? Heutzutage reden Menschen oft aneinander vorbei. Oder sie kommen erst gar nicht miteinander ins Gespräch. Bei unserer neuen Veranstaltungsreihe „Dazusetzen & Mitreden“ wollen wir deshalb gemeinsam mit Gastgeber:innen aus Vereinen\, Initiativen und Unternehmen Orte schaffen\, an denen wirklich zugehört wird.\n\n\n \n\n\n🎉 Wir\, HALLIANZ für Vielfalt starten gemeinsam mit 13 Gastgeber:innen aus Halle (Saale) von August bis Oktober 2025 vielfältige Gesprächsveranstaltungen jeweils unter dem Motto „Dazusetzen & Mitreden“. Unsere Dialogreihe möchte Menschen zusammenbringen – mit verschiedenen Erfahrungen\, Meinungen und Lebensgeschichten.\n\n\n \n\n\n🗣 Dabei ist es wichtig\, dass es freundlich und respektvoll zugeht – und das jede Person zu Wort kommen kann. Verschiedene Meinungen und Sichtweisen dürfen nebeneinander stehen. Damit das gelingt\, gibt es Unterstützung durch Moderator:innen und ein paar Gesprächsregeln.\n\n\n \n\n\n📆 Am 13. August 2025\, 18 – 20 Uhr findet die 2. Veranstaltung der Dialogreihe im Nachbarschaftstreff „Vally Guttmann“ des WohnUnion e.V.\nin der Georg-Cantor-Straße 7\, 06108 Halle/Saale statt.\n\nDas Thema lautet: „Kennst du Einsamkeit? Mit unserem Dialog wollen wir Nachbar:innen ermuntern\, sich offen mit diesem oft verdrängten Thema auseinanderzusetzen und gemeinsam nach Wegen aus der Einsamkeit zu suchen.“\n\n\nDie Teilnahme ist kostenfrei\, vor Ort gibt es Getränke und einen Snack.\nhttps://www.hallianz-fuer-vielfalt.de/dialogreihe-dazusetzen-mitreden/
URL:https://wohnunion-halle.de/termin/dialogreihe-dazusetzen-mitreden-kennst-du-einsamkeit/
ATTACH;FMTTYPE=image/jpeg:https://wohnunion-halle.de/WUedit/wp-content/uploads/2025/07/Dazusetzen-Mitreden-Share-pic-4_5-1.jpg
END:VEVENT
BEGIN:VEVENT
DTSTART;TZID=Europe/Berlin:20250815T153000
DTEND;TZID=Europe/Berlin:20250815T173000
DTSTAMP:20260424T141825
CREATED:20250801T102923Z
LAST-MODIFIED:20250801T102923Z
UID:2691-1755271800-1755279000@wohnunion-halle.de
SUMMARY:NadelSpielerei. Stricken. Häkeln. Plauschen.
DESCRIPTION:15.08.2025 | \n„NadelSpielerei“ – Gemeinsam ist manchmal besser als Allein“ \nDu strickst\, häkelst\, klöppelst\, spinnst\, nähst oder machst andere Handarbeitstechniken gern und hast schon immer einen Ort gesucht um es in Gemeinschaft zu tun?\nDiesen Raum wird es jeden 3.Freitag im Monat von 15:30 – 17:30 Uhr in der „Vally Guttmann“ geben. Das nächste Treffen ist am 20.6.25.\nDie Idee ist es\, in gemütlicher Runde bei Kuchen und Getränken\, uns unseren aktuellen Handarbeitsprojekten zu widmen. Dabei können wir Tipps und Tricks austauschen\, uns miteinander vernetzen und Ideen sammeln um das Quartier noch attraktiver zu machen.\nDie Nutzung des Raumes soll über Spenden finanziert werden.\nFühl dich herzlichst zu folgenden Terminen eingeladen:15.8./19.9./17.10./21.11./19.12.
URL:https://wohnunion-halle.de/termin/nadelspielerei-stricken-haekeln-plauschen-2/
ATTACH;FMTTYPE=image/png:https://wohnunion-halle.de/WUedit/wp-content/uploads/2025/08/Kopie-von-Kopie-von-NadelSpielerei-1.png
END:VEVENT
BEGIN:VEVENT
DTSTART;TZID=Europe/Berlin:20250824T110000
DTEND;TZID=Europe/Berlin:20250824T140000
DTSTAMP:20260424T141825
CREATED:20250820T083842Z
LAST-MODIFIED:20250820T083842Z
UID:2699-1756033200-1756044000@wohnunion-halle.de
SUMMARY:SchnippelSonntag
DESCRIPTION:24.08.25/ \nLust auf gemeinsames Kochen? Dann komm gerne vorbei!\nWir zaubern aus geretteten Lebensmitteln leckere Gerichte und essen gemeinsam.\nDu brauchst nichts mitzubringen\, außer Freude am gemeinschaftlichen Schnippel & Speisen. \nDer SchnippelSonntag findet wöchentlich von 11-14 Uhr im VALLY Guttmann Nachbarschaftsraum statt. \nMach mit – für mehr Gemeinschaft und weniger Verschwendung!
URL:https://wohnunion-halle.de/termin/schnippelsonntag-2/
ATTACH;FMTTYPE=image/png:https://wohnunion-halle.de/WUedit/wp-content/uploads/2025/08/Beige-Green-Organic-Illustrative-Cooking-Class-Flyer.png
END:VEVENT
BEGIN:VEVENT
DTSTART;TZID=Europe/Berlin:20250831T110000
DTEND;TZID=Europe/Berlin:20250831T140000
DTSTAMP:20260424T141825
CREATED:20250820T084106Z
LAST-MODIFIED:20250820T084106Z
UID:2701-1756638000-1756648800@wohnunion-halle.de
SUMMARY:SchnippelSonntag
DESCRIPTION:31.08.25/ \nLust auf gemeinsames Kochen? Dann komm gerne vorbei!\nWir zaubern aus geretteten Lebensmitteln leckere Gerichte und essen gemeinsam.\nDu brauchst nichts mitzubringen\, außer Freude am gemeinschaftlichen Schnippel & Speisen. \nDer SchnippelSonntag findet wöchentlich von 11-14 Uhr im VALLY Guttmann Nachbarschaftsraum statt. \nMach mit – für mehr Gemeinschaft und weniger Verschwendung!
URL:https://wohnunion-halle.de/termin/schnippelsonntag-3/
ATTACH;FMTTYPE=image/png:https://wohnunion-halle.de/WUedit/wp-content/uploads/2025/08/Beige-Green-Organic-Illustrative-Cooking-Class-Flyer.png
END:VEVENT
END:VCALENDAR