BEGIN:VCALENDAR
VERSION:2.0
PRODID:-//WohnUnion Halle - ECPv6.15.7//NONSGML v1.0//EN
CALSCALE:GREGORIAN
METHOD:PUBLISH
X-WR-CALNAME:WohnUnion Halle
X-ORIGINAL-URL:https://wohnunion-halle.de
X-WR-CALDESC:Veranstaltungen für WohnUnion Halle
REFRESH-INTERVAL;VALUE=DURATION:PT1H
X-Robots-Tag:noindex
X-PUBLISHED-TTL:PT1H
BEGIN:VTIMEZONE
TZID:Europe/Berlin
BEGIN:DAYLIGHT
TZOFFSETFROM:+0100
TZOFFSETTO:+0200
TZNAME:CEST
DTSTART:20240331T010000
END:DAYLIGHT
BEGIN:STANDARD
TZOFFSETFROM:+0200
TZOFFSETTO:+0100
TZNAME:CET
DTSTART:20241027T010000
END:STANDARD
BEGIN:DAYLIGHT
TZOFFSETFROM:+0100
TZOFFSETTO:+0200
TZNAME:CEST
DTSTART:20250330T010000
END:DAYLIGHT
BEGIN:STANDARD
TZOFFSETFROM:+0200
TZOFFSETTO:+0100
TZNAME:CET
DTSTART:20251026T010000
END:STANDARD
BEGIN:DAYLIGHT
TZOFFSETFROM:+0100
TZOFFSETTO:+0200
TZNAME:CEST
DTSTART:20260329T010000
END:DAYLIGHT
BEGIN:STANDARD
TZOFFSETFROM:+0200
TZOFFSETTO:+0100
TZNAME:CET
DTSTART:20261025T010000
END:STANDARD
END:VTIMEZONE
BEGIN:VEVENT
DTSTART;TZID=Europe/Berlin:20251102T110000
DTEND;TZID=Europe/Berlin:20251102T140000
DTSTAMP:20260424T200925
CREATED:20251021T102524Z
LAST-MODIFIED:20251021T102524Z
UID:2790-1762081200-1762092000@wohnunion-halle.de
SUMMARY:Gemeinsam kochen
DESCRIPTION:02.11.25/ \nLust auf gemeinsames Kochen? Dann komm gerne vorbei!\nWir zaubern aus geretteten Lebensmitteln leckere Gerichte und essen gemeinsam.\nDu brauchst nichts mitzubringen\, außer Freude am gemeinschaftlichen Schnippeln & Speisen. \nDas gemeinsame Kochen findet an jedem 2. Sonntag von 11-14 Uhr im VALLY Guttmann Nachbarschaftsraum statt.\nNächste Termine: 16.11./30.11./07.12/21.12 \nMach mit – für mehr Gemeinschaft und weniger Verschwendung!
URL:https://wohnunion-halle.de/termin/gemeinsam-kochen-2/
ATTACH;FMTTYPE=image/png:https://wohnunion-halle.de/WUedit/wp-content/uploads/2025/08/Beige-Green-Organic-Illustrative-Cooking-Class-Flyer-2-e1767793437788.png
END:VEVENT
BEGIN:VEVENT
DTSTART;TZID=Europe/Berlin:20251104T190000
DTEND;TZID=Europe/Berlin:20251104T210000
DTSTAMP:20260424T200925
CREATED:20251104T092637Z
LAST-MODIFIED:20251104T092637Z
UID:2810-1762282800-1762290000@wohnunion-halle.de
SUMMARY:Frauenresonanzraum
DESCRIPTION:04.11.2025/ \nFühlt euch herzlich zum „Frauenresonanzraum“ eingeladen!\nIn gemütlicher Atmosphäre schaffen wir Raum für Begegnung\, Austausch und gegenseitige Inspiration. Hier können Frauen miteinander ins Gespräch kommen\, zuhören\, sich bestärken und neue Impulse mitnehmen. \nKommt einfach vorbei! \nOrt: VALLY Guttmann Nachbarschaftsraum\, Georg-Cantor-Str. 7\, 06108 Halle (Saale) \n 
URL:https://wohnunion-halle.de/termin/frauenresonanzraum/
ATTACH;FMTTYPE=image/jpeg:https://wohnunion-halle.de/WUedit/wp-content/uploads/2025/11/WhatsApp-Image-2025-11-04-at-09.02.03.jpeg
END:VEVENT
BEGIN:VEVENT
DTSTART;TZID=Europe/Berlin:20251106T183000
DTEND;TZID=Europe/Berlin:20251106T200000
DTSTAMP:20260424T200925
CREATED:20251104T093430Z
LAST-MODIFIED:20251104T093430Z
UID:2813-1762453800-1762459200@wohnunion-halle.de
SUMMARY:Yoga für alle!
DESCRIPTION:06.11.25/ \nLust auf Yoga – egal ob Anfänger*in oder Fortgeschrittene*r? \nWir üben traditionelles Yoga mit Atemübungen und achten auf saubere Ausführung.\nBring bitte Yogamatte und Block (Buch geht auch) mit.\nKleine Spende für Raummiete willkommen. \nVielleicht bis bald\,\nFrank \nOrt: VALLY Guttmann Nachbarschaftsraum\, Georg-Cantor-Str. 7\, 06108 Halle (Saale)
URL:https://wohnunion-halle.de/termin/yoga-fuer-alle/
ATTACH;FMTTYPE=image/jpeg:https://wohnunion-halle.de/WUedit/wp-content/uploads/2025/11/WhatsApp-Image-2025-11-04-at-10.27.37.jpeg
END:VEVENT
BEGIN:VEVENT
DTSTART;TZID=Europe/Berlin:20251108T110000
DTEND;TZID=Europe/Berlin:20251108T140000
DTSTAMP:20260424T200925
CREATED:20251021T104655Z
LAST-MODIFIED:20251021T104900Z
UID:2801-1762599600-1762610400@wohnunion-halle.de
SUMMARY:VALLY Subbotnik
DESCRIPTION:08.11.25/ \nLasst uns am Samstag\, den 11. Oktober 2025\, von 11:00 bis 14:00 Uhr gemeinsam unseren Nachbarschaftsraum mit Vorgarten verschönern und winterfest machen. \nOb Türen abschleifen\, malern\, putzen\, gärtnern oder werkeln – Miteinander bewegt man mehr! \nUnd weil gemeinsames Anpacken auch belohnt werden soll\, wartet nach dem „Subbotnik“ ein leckeres Essen auf uns. \nBringt gerne Arbeitskleidung mit – wir freuen uns auf viele helfende Hände und einen schönen Tag mit euch!
URL:https://wohnunion-halle.de/termin/vally-subbotnik-3/
ATTACH;FMTTYPE=image/png:https://wohnunion-halle.de/WUedit/wp-content/uploads/2025/10/VALLY-1-e1761043604103.png
END:VEVENT
BEGIN:VEVENT
DTSTART;TZID=Europe/Berlin:20251113T183000
DTEND;TZID=Europe/Berlin:20251113T200000
DTSTAMP:20260424T200925
CREATED:20251111T120423Z
LAST-MODIFIED:20251111T120423Z
UID:2823-1763058600-1763064000@wohnunion-halle.de
SUMMARY:Yoga für alle!
DESCRIPTION:13.11.25/ \nLust auf Yoga – egal ob Anfänger*in oder Fortgeschrittene*r? \nWir üben traditionelles Yoga mit Atemübungen und achten auf saubere Ausführung.\nBring bitte Yogamatte und Block (Buch geht auch) mit.\nKleine Spende für Raummiete willkommen. \nVielleicht bis bald\,\nFrank \nOrt: VALLY Guttmann Nachbarschaftsraum\, Georg-Cantor-Str. 7\, 06108 Halle (Saale)
URL:https://wohnunion-halle.de/termin/yoga-fuer-alle-2/
ATTACH;FMTTYPE=image/jpeg:https://wohnunion-halle.de/WUedit/wp-content/uploads/2025/11/WhatsApp-Image-2025-11-11-at-13.00.06.jpeg
END:VEVENT
BEGIN:VEVENT
DTSTART;TZID=Europe/Berlin:20251116T110000
DTEND;TZID=Europe/Berlin:20251116T140000
DTSTAMP:20260424T200925
CREATED:20251021T102657Z
LAST-MODIFIED:20251021T102657Z
UID:2792-1763290800-1763301600@wohnunion-halle.de
SUMMARY:Gemeinsam kochen
DESCRIPTION:16.11.25/ \nLust auf gemeinsames Kochen? Dann komm gerne vorbei!\nWir zaubern aus geretteten Lebensmitteln leckere Gerichte und essen gemeinsam.\nDu brauchst nichts mitzubringen\, außer Freude am gemeinschaftlichen Schnippeln & Speisen. \nDas gemeinsame Kochen findet an jedem 2. Sonntag von 11-14 Uhr im VALLY Guttmann Nachbarschaftsraum statt.\nNächste Termine: 30.11./07.12/21.12 \nMach mit – für mehr Gemeinschaft und weniger Verschwendung!
URL:https://wohnunion-halle.de/termin/gemeinsam-kochen-3/
ATTACH;FMTTYPE=image/png:https://wohnunion-halle.de/WUedit/wp-content/uploads/2025/08/Beige-Green-Organic-Illustrative-Cooking-Class-Flyer-2-e1767793437788.png
END:VEVENT
BEGIN:VEVENT
DTSTART;TZID=Europe/Berlin:20251118T200000
DTEND;TZID=Europe/Berlin:20251118T213000
DTSTAMP:20260424T200925
CREATED:20251112T150155Z
LAST-MODIFIED:20251112T150155Z
UID:2835-1763496000-1763501400@wohnunion-halle.de
SUMMARY:November Lesewerkstatt
DESCRIPTION:18.10.25/\nLesewerkstatt 2025/2026\n„Die Eroberung der Natur“ —\nwie hängen Klimawandel und Lebenswandel zusammen? \nDer Kampf gegen ‚die Wildnis‘ – in Wahrheit ging es gegen aufsässige Untertanen\, um bedingungslose Anpassung. Wo gibt’s das auch heute?\nWir lesen weiter in dem Buch von David Blackbourn. \nDienstag 18. November\, 20 Uhr\, im Vally Guttmann Nachbarschaftsraum (Georg-Cantor-Str.7 / Ecke Hermannstraße) \nHier findest Du eine Übersicht aller Termine der Lesewerkstatt.
URL:https://wohnunion-halle.de/termin/november-lesewerkstatt/
ATTACH;FMTTYPE=image/png:https://wohnunion-halle.de/WUedit/wp-content/uploads/2025/09/Lesewerkstatt-20252026.png
END:VEVENT
BEGIN:VEVENT
DTSTART;TZID=Europe/Berlin:20251121T153000
DTEND;TZID=Europe/Berlin:20251121T173000
DTSTAMP:20260424T200925
CREATED:20251021T105247Z
LAST-MODIFIED:20251021T105247Z
UID:2804-1763739000-1763746200@wohnunion-halle.de
SUMMARY:NadelSpielerei - Stricken.Häkeln.Plauschen.
DESCRIPTION:21.11.2025 | \n„NadelSpielerei“ – Gemeinsam ist manchmal besser als Allein“ \nDu strickst\, häkelst\, klöppelst\, spinnst\, nähst oder machst andere Handarbeitstechniken gern und hast schon immer einen Ort gesucht um es in Gemeinschaft zu tun?\nDiesen Raum wird es jeden 3.Freitag im Monat von 15:30 – 17:30 Uhr in der „Vally Guttmann“ geben. Das nächste Treffen ist am 20.6.25.\nDie Idee ist es\, in gemütlicher Runde bei Kuchen und Getränken\, uns unseren aktuellen Handarbeitsprojekten zu widmen. Dabei können wirTipps und Tricks austauschen\, uns miteinander vernetzen und Ideen sammeln um das Quartier noch attraktiver zu machen.\nDie Nutzung des Raumes soll über Spenden finanziert werden.\nFühl dich herzlichst zu folgenden Termineneingeladen: 19.12.
URL:https://wohnunion-halle.de/termin/nadelspielerei-stricken-haekeln-plauschen-5/
ATTACH;FMTTYPE=image/png:https://wohnunion-halle.de/WUedit/wp-content/uploads/2025/05/NadelspielereiShare2.png
END:VEVENT
BEGIN:VEVENT
DTSTART;TZID=Europe/Berlin:20251127T183000
DTEND;TZID=Europe/Berlin:20251127T200000
DTSTAMP:20260424T200925
CREATED:20251126T115522Z
LAST-MODIFIED:20251126T115522Z
UID:2855-1764268200-1764273600@wohnunion-halle.de
SUMMARY:Yoga für alle!
DESCRIPTION:27.11.25/ \nLust auf Yoga – egal ob Anfänger*in oder Fortgeschrittene*r? \nWir üben traditionelles Yoga mit Atemübungen und achten auf saubere Ausführung.\nBring bitte Yogamatte und Block (Buch geht auch) mit.\nKleine Spende für Raummiete willkommen. \nVielleicht bis bald\,\nFrank \nOrt: VALLY Guttmann Nachbarschaftsraum\, Georg-Cantor-Str. 7\, 06108 Halle (Saale)
URL:https://wohnunion-halle.de/termin/yoga-fuer-alle-3/
ATTACH;FMTTYPE=image/jpeg:https://wohnunion-halle.de/WUedit/wp-content/uploads/2025/11/WhatsApp-Image-2025-11-04-at-10.27.37.jpeg
END:VEVENT
BEGIN:VEVENT
DTSTART;TZID=Europe/Berlin:20251130T110000
DTEND;TZID=Europe/Berlin:20251130T140000
DTSTAMP:20260424T200925
CREATED:20251021T103336Z
LAST-MODIFIED:20251119T100604Z
UID:2794-1764500400-1764511200@wohnunion-halle.de
SUMMARY:Gemeinsam backen
DESCRIPTION:30.11.25/ \nLust auf gemeinsames Backen? Dann komm gerne vorbei!\nDa heute der 1. Advent ist\, wollen wir leckere Plätzchen backen und die Vally in eine duftende Weihnachtsbäckerei verwandeln.\nDu brauchst nichts mitzubringen\, außer Freude am gemeinschaftlichen Backen & Naschen und vielleicht deine liebsten Ausstechförmchen. \nAb dem 07.12.25 findet dann wieder das gemeinsame Kochen von 11-14 Uhr im VALLY Guttmann Nachbarschaftsraum statt.\nNächste Termine: 07.12/21.12 \nWir danken der KONSUM Filiale in der Bernburgerstraße 24\, 06108 Halle für ihre freundliche Lebensmittel-Unterstützung.\nMach mit – für mehr Gemeinschaft und weniger Verschwendung!
URL:https://wohnunion-halle.de/termin/gemeinsam-backen/
ATTACH;FMTTYPE=image/png:https://wohnunion-halle.de/WUedit/wp-content/uploads/2025/10/Beige-Green-Organic-Illustrative-Cooking-Class-Flyer-4.png
END:VEVENT
BEGIN:VEVENT
DTSTART;TZID=Europe/Berlin:20251130T160000
DTEND;TZID=Europe/Berlin:20251130T183000
DTSTAMP:20260424T200925
CREATED:20251008T090135Z
LAST-MODIFIED:20251008T090345Z
UID:2773-1764518400-1764527400@wohnunion-halle.de
SUMMARY:Kerzenziehen in der VALLY
DESCRIPTION:30.11.25/ \nEinladung zum Kerzenziehen \nWir laden euch herzlich am 30. November 2025 von 16:00 bis 18:30 Uhr zum gemeinsamen Kerzenziehen im\nVally Guttmann Nachbarschaftsraum ein.\nIn gemütlicher Runde gestalten wir Kerzen\, die uns die Adventszeit erhellen und Wärme in die dunkle Jahreszeit bringen. \nDazu gibt es leckeren Kinderpunsch und Glühwein.
URL:https://wohnunion-halle.de/termin/kerzenziehen-in-der-vally/
ATTACH;FMTTYPE=image/png:https://wohnunion-halle.de/WUedit/wp-content/uploads/2025/10/Kerzenziehen-in-der-Vally.png
END:VEVENT
END:VCALENDAR